BEGIN:VCALENDAR
VERSION:2.0
PRODID:-//Central Texas Board Game and Miniatures - ECPv6.15.20//NONSGML v1.0//EN
CALSCALE:GREGORIAN
METHOD:PUBLISH
X-WR-CALNAME:Central Texas Board Game and Miniatures
X-ORIGINAL-URL:https://centexboardgameminiatures.org
X-WR-CALDESC:Events for Central Texas Board Game and Miniatures
REFRESH-INTERVAL;VALUE=DURATION:PT1H
X-Robots-Tag:noindex
X-PUBLISHED-TTL:PT1H
BEGIN:VTIMEZONE
TZID:America/Chicago
BEGIN:DAYLIGHT
TZOFFSETFROM:-0600
TZOFFSETTO:-0500
TZNAME:CDT
DTSTART:20240310T080000
END:DAYLIGHT
BEGIN:STANDARD
TZOFFSETFROM:-0500
TZOFFSETTO:-0600
TZNAME:CST
DTSTART:20241103T070000
END:STANDARD
BEGIN:DAYLIGHT
TZOFFSETFROM:-0600
TZOFFSETTO:-0500
TZNAME:CDT
DTSTART:20250309T080000
END:DAYLIGHT
BEGIN:STANDARD
TZOFFSETFROM:-0500
TZOFFSETTO:-0600
TZNAME:CST
DTSTART:20251102T070000
END:STANDARD
BEGIN:DAYLIGHT
TZOFFSETFROM:-0600
TZOFFSETTO:-0500
TZNAME:CDT
DTSTART:20260308T080000
END:DAYLIGHT
BEGIN:STANDARD
TZOFFSETFROM:-0500
TZOFFSETTO:-0600
TZNAME:CST
DTSTART:20261101T070000
END:STANDARD
END:VTIMEZONE
BEGIN:VEVENT
DTSTART;TZID=America/Chicago:20250105T130000
DTEND;TZID=America/Chicago:20250105T180000
DTSTAMP:20260424T102936
CREATED:20250109T070119Z
LAST-MODIFIED:20250109T070119Z
UID:11886-1736082000-1736100000@centexboardgameminiatures.org
SUMMARY:Unfathomable - The Abyss
DESCRIPTION:
URL:https://centexboardgameminiatures.org/event/unfathomable-the-abyss/
LOCATION:Gaming Carriage House\, Woodway\, TX
CATEGORIES:Game Day
END:VEVENT
BEGIN:VEVENT
DTSTART;TZID=America/Chicago:20250112T130000
DTEND;TZID=America/Chicago:20250112T180000
DTSTAMP:20260424T102936
CREATED:20250109T070249Z
LAST-MODIFIED:20250109T070249Z
UID:11888-1736686800-1736704800@centexboardgameminiatures.org
SUMMARY:Unfathomable - The Abyss
DESCRIPTION:
URL:https://centexboardgameminiatures.org/event/unfathomable-the-abyss-2/
LOCATION:Gaming Carriage House\, Woodway\, TX
CATEGORIES:Game Day
END:VEVENT
BEGIN:VEVENT
DTSTART;TZID=America/Chicago:20250114T180000
DTEND;TZID=America/Chicago:20250114T230000
DTSTAMP:20260424T102936
CREATED:20250119T091712Z
LAST-MODIFIED:20250119T092746Z
UID:11902-1736877600-1736895600@centexboardgameminiatures.org
SUMMARY:The Other Side of the Hill
DESCRIPTION:
URL:https://centexboardgameminiatures.org/event/over-the-hill/
LOCATION:Gaming Carriage House\, Woodway\, TX
CATEGORIES:Game Day
END:VEVENT
BEGIN:VEVENT
DTSTART;TZID=America/Chicago:20250119T130000
DTEND;TZID=America/Chicago:20250119T180000
DTSTAMP:20260424T102936
CREATED:20250119T091826Z
LAST-MODIFIED:20250119T092707Z
UID:11904-1737291600-1737309600@centexboardgameminiatures.org
SUMMARY:The Other Side of the Hill
DESCRIPTION:
URL:https://centexboardgameminiatures.org/event/over-the-hill-2/
LOCATION:TX
CATEGORIES:Game Day
END:VEVENT
BEGIN:VEVENT
DTSTART;TZID=America/Chicago:20250121T130000
DTEND;TZID=America/Chicago:20250121T170000
DTSTAMP:20260424T102936
CREATED:20250120T072139Z
LAST-MODIFIED:20250129T052640Z
UID:11932-1737464400-1737478800@centexboardgameminiatures.org
SUMMARY:Burning Banners: Learning Scenario - Forjland versus Dwarves
DESCRIPTION:
URL:https://centexboardgameminiatures.org/event/burning-banners/
LOCATION:Gaming Carriage House\, Woodway\, TX
CATEGORIES:Game Day
END:VEVENT
BEGIN:VEVENT
DTSTART;TZID=America/Chicago:20250126T130000
DTEND;TZID=America/Chicago:20250126T170000
DTSTAMP:20260424T102936
CREATED:20250129T045109Z
LAST-MODIFIED:20250129T052444Z
UID:11944-1737896400-1737910800@centexboardgameminiatures.org
SUMMARY:Burning Banners: Rage of the Witch Queen - Empire vs Forjland
DESCRIPTION:
URL:https://centexboardgameminiatures.org/event/burning-banners-rage-of-the-witch-queen-learning-scenarios/
LOCATION:Gaming Carriage House\, Woodway\, TX
CATEGORIES:Game Day
END:VEVENT
BEGIN:VEVENT
DTSTART;TZID=America/Chicago:20250128T120000
DTEND;TZID=America/Chicago:20250128T170000
DTSTAMP:20260424T102936
CREATED:20250129T045223Z
LAST-MODIFIED:20250129T052304Z
UID:11946-1738065600-1738083600@centexboardgameminiatures.org
SUMMARY:Burning Banners: Rage of the Witch Queen: Great Goblin Raid
DESCRIPTION:
URL:https://centexboardgameminiatures.org/event/burning-banners-rage-of-the-witch-queen-orc-versus-goblins/
LOCATION:Gaming Carriage House\, Woodway\, TX
CATEGORIES:Game Day
END:VEVENT
BEGIN:VEVENT
DTSTART;TZID=America/Chicago:20250130T130000
DTEND;TZID=America/Chicago:20250130T170000
DTSTAMP:20260424T102936
CREATED:20250129T045342Z
LAST-MODIFIED:20250129T052547Z
UID:11948-1738242000-1738256400@centexboardgameminiatures.org
SUMMARY:Burning Banners: Rage of the Witch Queen: Goblins versus Forjland
DESCRIPTION:
URL:https://centexboardgameminiatures.org/event/burning-banners-rage-of-the-witch-queen-goblins-versus-vikings/
LOCATION:Gaming Carriage House\, Woodway\, TX
CATEGORIES:Game Day
END:VEVENT
END:VCALENDAR