BEGIN:VCALENDAR
VERSION:2.0
PRODID:-//Central Texas Board Game and Miniatures - ECPv6.15.20//NONSGML v1.0//EN
CALSCALE:GREGORIAN
METHOD:PUBLISH
X-ORIGINAL-URL:https://centexboardgameminiatures.org
X-WR-CALDESC:Events for Central Texas Board Game and Miniatures
REFRESH-INTERVAL;VALUE=DURATION:PT1H
X-Robots-Tag:noindex
X-PUBLISHED-TTL:PT1H
BEGIN:VTIMEZONE
TZID:America/Chicago
BEGIN:DAYLIGHT
TZOFFSETFROM:-0600
TZOFFSETTO:-0500
TZNAME:CDT
DTSTART:20230312T080000
END:DAYLIGHT
BEGIN:STANDARD
TZOFFSETFROM:-0500
TZOFFSETTO:-0600
TZNAME:CST
DTSTART:20231105T070000
END:STANDARD
BEGIN:DAYLIGHT
TZOFFSETFROM:-0600
TZOFFSETTO:-0500
TZNAME:CDT
DTSTART:20240310T080000
END:DAYLIGHT
BEGIN:STANDARD
TZOFFSETFROM:-0500
TZOFFSETTO:-0600
TZNAME:CST
DTSTART:20241103T070000
END:STANDARD
BEGIN:DAYLIGHT
TZOFFSETFROM:-0600
TZOFFSETTO:-0500
TZNAME:CDT
DTSTART:20250309T080000
END:DAYLIGHT
BEGIN:STANDARD
TZOFFSETFROM:-0500
TZOFFSETTO:-0600
TZNAME:CST
DTSTART:20251102T070000
END:STANDARD
END:VTIMEZONE
BEGIN:VEVENT
DTSTART;TZID=America/Chicago:20241124T130000
DTEND;TZID=America/Chicago:20241124T170000
DTSTAMP:20260424T134325
CREATED:20241205T031044Z
LAST-MODIFIED:20241205T031044Z
UID:11810-1732453200-1732467600@centexboardgameminiatures.org
SUMMARY:Cthulhu
DESCRIPTION:
URL:https://centexboardgameminiatures.org/event/cthulhu/
LOCATION:Gaming Carriage House\, Woodway\, TX
END:VEVENT
BEGIN:VEVENT
DTSTART;TZID=America/Chicago:20241126T130000
DTEND;TZID=America/Chicago:20241126T170000
DTSTAMP:20260424T134325
CREATED:20241205T030802Z
LAST-MODIFIED:20241205T030838Z
UID:11808-1732626000-1732640400@centexboardgameminiatures.org
SUMMARY:Acquire
DESCRIPTION:
URL:https://centexboardgameminiatures.org/event/acquire/
LOCATION:Gaming Carriage House\, Woodway\, TX
END:VEVENT
END:VCALENDAR