BEGIN:VCALENDAR
VERSION:2.0
PRODID:-//Central Texas Board Game and Miniatures - ECPv6.15.20//NONSGML v1.0//EN
CALSCALE:GREGORIAN
METHOD:PUBLISH
X-ORIGINAL-URL:https://centexboardgameminiatures.org
X-WR-CALDESC:Events for Central Texas Board Game and Miniatures
REFRESH-INTERVAL;VALUE=DURATION:PT1H
X-Robots-Tag:noindex
X-PUBLISHED-TTL:PT1H
BEGIN:VTIMEZONE
TZID:America/Chicago
BEGIN:DAYLIGHT
TZOFFSETFROM:-0600
TZOFFSETTO:-0500
TZNAME:CDT
DTSTART:20230312T080000
END:DAYLIGHT
BEGIN:STANDARD
TZOFFSETFROM:-0500
TZOFFSETTO:-0600
TZNAME:CST
DTSTART:20231105T070000
END:STANDARD
BEGIN:DAYLIGHT
TZOFFSETFROM:-0600
TZOFFSETTO:-0500
TZNAME:CDT
DTSTART:20240310T080000
END:DAYLIGHT
BEGIN:STANDARD
TZOFFSETFROM:-0500
TZOFFSETTO:-0600
TZNAME:CST
DTSTART:20241103T070000
END:STANDARD
BEGIN:DAYLIGHT
TZOFFSETFROM:-0600
TZOFFSETTO:-0500
TZNAME:CDT
DTSTART:20250309T080000
END:DAYLIGHT
BEGIN:STANDARD
TZOFFSETFROM:-0500
TZOFFSETTO:-0600
TZNAME:CST
DTSTART:20251102T070000
END:STANDARD
END:VTIMEZONE
BEGIN:VEVENT
DTSTART;TZID=America/Chicago:20240602T130000
DTEND;TZID=America/Chicago:20240602T170000
DTSTAMP:20260424T215548
CREATED:20240601T204415Z
LAST-MODIFIED:20240602T181859Z
UID:10681-1717333200-1717347600@centexboardgameminiatures.org
SUMMARY:Skyrim - Part 2 - Chapter 3 (postponed)
DESCRIPTION:
URL:https://centexboardgameminiatures.org/event/skyrim-part-2-chapter-3/
LOCATION:Gaming Carriage House\, Woodway\, TX
CATEGORIES:Game Day
END:VEVENT
BEGIN:VEVENT
DTSTART;TZID=America/Chicago:20240609T130000
DTEND;TZID=America/Chicago:20240609T180000
DTSTAMP:20260424T215548
CREATED:20240609T024644Z
LAST-MODIFIED:20240609T024644Z
UID:10746-1717938000-1717956000@centexboardgameminiatures.org
SUMMARY:Skyrim
DESCRIPTION:
URL:https://centexboardgameminiatures.org/event/skyrim-3/
LOCATION:Gaming Carriage House\, Woodway\, TX
CATEGORIES:Game Day
END:VEVENT
BEGIN:VEVENT
DTSTART;TZID=America/Chicago:20240611T130000
DTEND;TZID=America/Chicago:20240611T170000
DTSTAMP:20260424T215548
CREATED:20240615T021221Z
LAST-MODIFIED:20240615T021221Z
UID:10785-1718110800-1718125200@centexboardgameminiatures.org
SUMMARY:Conquest of Nerath
DESCRIPTION:
URL:https://centexboardgameminiatures.org/event/conquest-of-nerath/
LOCATION:Gaming Carriage House\, Woodway\, TX
CATEGORIES:Game Day
END:VEVENT
BEGIN:VEVENT
DTSTART;TZID=America/Chicago:20240615T130000
DTEND;TZID=America/Chicago:20240615T170000
DTSTAMP:20260424T215548
CREATED:20240615T021101Z
LAST-MODIFIED:20240615T021101Z
UID:10783-1718456400-1718470800@centexboardgameminiatures.org
SUMMARY:ZOMBICIDE - UNDEAD AND ALIVE
DESCRIPTION:
URL:https://centexboardgameminiatures.org/event/zombicide-undead-and-alive/
LOCATION:Gaming Carriage House\, Woodway\, TX
CATEGORIES:Game Day
END:VEVENT
BEGIN:VEVENT
DTSTART;TZID=America/Chicago:20240620T130000
DTEND;TZID=America/Chicago:20240620T170000
DTSTAMP:20260424T215548
CREATED:20240616T003644Z
LAST-MODIFIED:20240616T003644Z
UID:10794-1718888400-1718902800@centexboardgameminiatures.org
SUMMARY:ZOMBICIDE - UNDEAD AND ALIVE: Mission 2
DESCRIPTION:
URL:https://centexboardgameminiatures.org/event/zombicide-undead-and-alive-mission-2/
LOCATION:Gaming Carriage House\, Woodway\, TX
CATEGORIES:Game Day
END:VEVENT
BEGIN:VEVENT
DTSTART;TZID=America/Chicago:20240623T130000
DTEND;TZID=America/Chicago:20240623T170000
DTSTAMP:20260424T215548
CREATED:20240616T003805Z
LAST-MODIFIED:20240628T003907Z
UID:10796-1719147600-1719162000@centexboardgameminiatures.org
SUMMARY:Conquest of Nareth
DESCRIPTION:
URL:https://centexboardgameminiatures.org/event/conquest-of-nareth/
LOCATION:Gaming Carriage House\, Woodway\, TX
CATEGORIES:Game Day
END:VEVENT
BEGIN:VEVENT
DTSTART;TZID=America/Chicago:20240625T080000
DTEND;TZID=America/Chicago:20240625T170000
DTSTAMP:20260424T215548
CREATED:20240624T061141Z
LAST-MODIFIED:20240628T003735Z
UID:10841-1719302400-1719334800@centexboardgameminiatures.org
SUMMARY:No Game
DESCRIPTION:
URL:https://centexboardgameminiatures.org/event/tbd/
LOCATION:Gaming Carriage House\, Woodway\, TX
CATEGORIES:Game Day
END:VEVENT
BEGIN:VEVENT
DTSTART;TZID=America/Chicago:20240627T080000
DTEND;TZID=America/Chicago:20240627T170000
DTSTAMP:20260424T215548
CREATED:20240625T210323Z
LAST-MODIFIED:20240628T003516Z
UID:10899-1719475200-1719507600@centexboardgameminiatures.org
SUMMARY:No Game
DESCRIPTION:
URL:https://centexboardgameminiatures.org/event/no-game/
LOCATION:Gaming Carriage House\, Woodway\, TX
CATEGORIES:Game Day
END:VEVENT
BEGIN:VEVENT
DTSTART;TZID=America/Chicago:20240630T130000
DTEND;TZID=America/Chicago:20240630T170000
DTSTAMP:20260424T215548
CREATED:20240628T003339Z
LAST-MODIFIED:20240628T003339Z
UID:10924-1719752400-1719766800@centexboardgameminiatures.org
SUMMARY:Workshop Day
DESCRIPTION:
URL:https://centexboardgameminiatures.org/event/workshop-day/
LOCATION:Gaming Carriage House\, Woodway\, TX
CATEGORIES:Workshop
END:VEVENT
END:VCALENDAR