BEGIN:VCALENDAR
VERSION:2.0
PRODID:-//Central Texas Board Game and Miniatures - ECPv6.15.20//NONSGML v1.0//EN
CALSCALE:GREGORIAN
METHOD:PUBLISH
X-WR-CALNAME:Central Texas Board Game and Miniatures
X-ORIGINAL-URL:https://centexboardgameminiatures.org
X-WR-CALDESC:Events for Central Texas Board Game and Miniatures
REFRESH-INTERVAL;VALUE=DURATION:PT1H
X-Robots-Tag:noindex
X-PUBLISHED-TTL:PT1H
BEGIN:VTIMEZONE
TZID:America/Chicago
BEGIN:DAYLIGHT
TZOFFSETFROM:-0600
TZOFFSETTO:-0500
TZNAME:CDT
DTSTART:20220313T080000
END:DAYLIGHT
BEGIN:STANDARD
TZOFFSETFROM:-0500
TZOFFSETTO:-0600
TZNAME:CST
DTSTART:20221106T070000
END:STANDARD
BEGIN:DAYLIGHT
TZOFFSETFROM:-0600
TZOFFSETTO:-0500
TZNAME:CDT
DTSTART:20230312T080000
END:DAYLIGHT
BEGIN:STANDARD
TZOFFSETFROM:-0500
TZOFFSETTO:-0600
TZNAME:CST
DTSTART:20231105T070000
END:STANDARD
BEGIN:DAYLIGHT
TZOFFSETFROM:-0600
TZOFFSETTO:-0500
TZNAME:CDT
DTSTART:20240310T080000
END:DAYLIGHT
BEGIN:STANDARD
TZOFFSETFROM:-0500
TZOFFSETTO:-0600
TZNAME:CST
DTSTART:20241103T070000
END:STANDARD
END:VTIMEZONE
BEGIN:VEVENT
DTSTART;TZID=America/Chicago:20231029T080000
DTEND;TZID=America/Chicago:20231029T130000
DTSTAMP:20260425T115526
CREATED:20231028T032756Z
LAST-MODIFIED:20231028T032756Z
UID:9453-1698566400-1698584400@centexboardgameminiatures.org
SUMMARY:Eclipse: Second Dawn of the Galaxy - Game 2
DESCRIPTION:
URL:https://centexboardgameminiatures.org/event/eclipse-second-dawn-of-the-galaxy-game-2/
LOCATION:Gaming Carriage House\, Woodway\, TX
CATEGORIES:Game Day
END:VEVENT
BEGIN:VEVENT
DTSTART;TZID=America/Chicago:20231024T060000
DTEND;TZID=America/Chicago:20231024T120000
DTSTAMP:20260425T115526
CREATED:20231023T081839Z
LAST-MODIFIED:20231023T082032Z
UID:9451-1698127200-1698148800@centexboardgameminiatures.org
SUMMARY:Eclipse: Second Dawn of the Galaxy - round 3+
DESCRIPTION:
URL:https://centexboardgameminiatures.org/event/eclipse-second-dawn-of-the-galaxy-round-3/
LOCATION:Gaming Carriage House\, Woodway\, TX
CATEGORIES:Game Day
END:VEVENT
BEGIN:VEVENT
DTSTART;TZID=America/Chicago:20231022T080000
DTEND;TZID=America/Chicago:20231022T120000
DTSTAMP:20260425T115526
CREATED:20231023T081737Z
LAST-MODIFIED:20231023T081954Z
UID:9449-1697961600-1697976000@centexboardgameminiatures.org
SUMMARY:Eclipse: Second Dawn of the Galaxy - practice game
DESCRIPTION:
URL:https://centexboardgameminiatures.org/event/eclipse-second-dawn-of-the-galaxy-practice-game/
LOCATION:Gaming Carriage House\, Woodway\, TX
CATEGORIES:Game Day
END:VEVENT
BEGIN:VEVENT
DTSTART;TZID=America/Chicago:20231017T060000
DTEND;TZID=America/Chicago:20231017T120000
DTSTAMP:20260425T115526
CREATED:20231014T121515Z
LAST-MODIFIED:20231014T121515Z
UID:9416-1697522400-1697544000@centexboardgameminiatures.org
SUMMARY:Eclipse: Second Dawn of the Galaxy
DESCRIPTION:
URL:https://centexboardgameminiatures.org/event/eclipse-second-dawn-of-the-galaxy/
LOCATION:Gaming Carriage House\, Woodway\, TX
CATEGORIES:Game Day
END:VEVENT
BEGIN:VEVENT
DTSTART;TZID=America/Chicago:20231015T080000
DTEND;TZID=America/Chicago:20231015T120000
DTSTAMP:20260425T115526
CREATED:20231023T081648Z
LAST-MODIFIED:20231023T082320Z
UID:9447-1697356800-1697371200@centexboardgameminiatures.org
SUMMARY:Eclipse: Second Dawn of the Galaxy - learning session
DESCRIPTION:
URL:https://centexboardgameminiatures.org/event/eclipse-second-dawn-of-the-galaxy-learning-session/
LOCATION:Gaming Carriage House\, Woodway\, TX
CATEGORIES:Workshop
END:VEVENT
BEGIN:VEVENT
DTSTART;TZID=America/Chicago:20231012T060000
DTEND;TZID=America/Chicago:20231012T120000
DTSTAMP:20260425T115526
CREATED:20231014T121321Z
LAST-MODIFIED:20231014T123348Z
UID:9414-1697090400-1697112000@centexboardgameminiatures.org
SUMMARY:Trials of Tempus
DESCRIPTION:
URL:https://centexboardgameminiatures.org/event/trials-of-tempus-3/
LOCATION:Gaming Carriage House\, Woodway\, TX
CATEGORIES:Game Day
END:VEVENT
BEGIN:VEVENT
DTSTART;TZID=America/Chicago:20231010T060000
DTEND;TZID=America/Chicago:20231010T120000
DTSTAMP:20260425T115526
CREATED:20231014T121719Z
LAST-MODIFIED:20231014T121719Z
UID:9418-1696917600-1696939200@centexboardgameminiatures.org
SUMMARY:Trials of Tempus
DESCRIPTION:
URL:https://centexboardgameminiatures.org/event/trials-of-tempus-4/
LOCATION:Gaming Carriage House\, Woodway\, TX
CATEGORIES:Game Day
END:VEVENT
BEGIN:VEVENT
DTSTART;TZID=America/Chicago:20231005T060000
DTEND;TZID=America/Chicago:20231006T130000
DTSTAMP:20260425T115526
CREATED:20231004T093742Z
LAST-MODIFIED:20231004T093903Z
UID:9379-1696485600-1696597200@centexboardgameminiatures.org
SUMMARY:Trials of Tempus
DESCRIPTION:
URL:https://centexboardgameminiatures.org/event/trials-of-tempus-2/
LOCATION:Gaming Carriage House\, Woodway\, TX
CATEGORIES:Game Day
END:VEVENT
BEGIN:VEVENT
DTSTART;TZID=America/Chicago:20230926T060000
DTEND;TZID=America/Chicago:20230926T120000
DTSTAMP:20260425T115526
CREATED:20230925T085005Z
LAST-MODIFIED:20230925T090743Z
UID:9369-1695708000-1695729600@centexboardgameminiatures.org
SUMMARY:Trials of Tempus
DESCRIPTION:
URL:https://centexboardgameminiatures.org/event/trials-of-tempus/
LOCATION:Gaming Carriage House\, Woodway\, TX
CATEGORIES:Game Day
END:VEVENT
BEGIN:VEVENT
DTSTART;TZID=America/Chicago:20230924T080000
DTEND;TZID=America/Chicago:20230924T130000
DTSTAMP:20260425T115526
CREATED:20230920T090709Z
LAST-MODIFIED:20230920T091655Z
UID:9315-1695542400-1695560400@centexboardgameminiatures.org
SUMMARY:Descent - Final Vengeance
DESCRIPTION:
URL:https://centexboardgameminiatures.org/event/descent-put-to-rest/
LOCATION:Gaming Carriage House\, Woodway\, TX
CATEGORIES:Game Day
END:VEVENT
BEGIN:VEVENT
DTSTART;TZID=America/Chicago:20230919T060000
DTEND;TZID=America/Chicago:20230919T120000
DTSTAMP:20260425T115526
CREATED:20230920T090354Z
LAST-MODIFIED:20230920T091001Z
UID:9311-1695103200-1695124800@centexboardgameminiatures.org
SUMMARY:Descent: The Fate of Fallowhearth
DESCRIPTION:
URL:https://centexboardgameminiatures.org/event/descent-the-fate-of-fallowhearth/
LOCATION:Gaming Carriage House\, Woodway\, TX
CATEGORIES:Game Day
END:VEVENT
BEGIN:VEVENT
DTSTART;TZID=America/Chicago:20230917T080000
DTEND;TZID=America/Chicago:20230917T120000
DTSTAMP:20260425T115526
CREATED:20230913T110327Z
LAST-MODIFIED:20230920T090022Z
UID:9272-1694937600-1694952000@centexboardgameminiatures.org
SUMMARY:Descent: Let It Stay Buried
DESCRIPTION:
URL:https://centexboardgameminiatures.org/event/descent/
LOCATION:Gaming Carriage House\, Woodway\, TX
CATEGORIES:Game Day
END:VEVENT
BEGIN:VEVENT
DTSTART;TZID=America/Chicago:20230917T060000
DTEND;TZID=America/Chicago:20230917T130000
DTSTAMP:20260425T115526
CREATED:20230920T090506Z
LAST-MODIFIED:20230920T090913Z
UID:9313-1694930400-1694955600@centexboardgameminiatures.org
SUMMARY:Descent: Let It Stay Buried
DESCRIPTION:
URL:https://centexboardgameminiatures.org/event/descent-let-it-stay-buried/
LOCATION:Gaming Carriage House\, Woodway\, TX
END:VEVENT
BEGIN:VEVENT
DTSTART;TZID=America/Chicago:20230912T070000
DTEND;TZID=America/Chicago:20230912T120000
DTSTAMP:20260425T115526
CREATED:20230913T110242Z
LAST-MODIFIED:20230913T110242Z
UID:9270-1694502000-1694520000@centexboardgameminiatures.org
SUMMARY:Descent: Tomb of Remembrance
DESCRIPTION:
URL:https://centexboardgameminiatures.org/event/descent-tomb-of-remembrance/
LOCATION:Gaming Carriage House\, Woodway\, TX
CATEGORIES:Game Day
END:VEVENT
BEGIN:VEVENT
DTSTART;TZID=America/Chicago:20230910T080000
DTEND;TZID=America/Chicago:20230910T120000
DTSTAMP:20260425T115526
CREATED:20230913T110131Z
LAST-MODIFIED:20230913T110131Z
UID:9268-1694332800-1694347200@centexboardgameminiatures.org
SUMMARY:Descent: Dark Tidings
DESCRIPTION:
URL:https://centexboardgameminiatures.org/event/descent-dark-tidings/
LOCATION:Gaming Carriage House\, Woodway\, TX
CATEGORIES:Game Day
END:VEVENT
BEGIN:VEVENT
DTSTART;TZID=America/Chicago:20230910T080000
DTEND;TZID=America/Chicago:20230910T120000
DTSTAMP:20260425T115526
CREATED:20230908T070343Z
LAST-MODIFIED:20230908T070343Z
UID:9188-1694332800-1694347200@centexboardgameminiatures.org
SUMMARY:Descent: The Two Dreamers
DESCRIPTION:
URL:https://centexboardgameminiatures.org/event/descent-the-two-dreamers/
LOCATION:Gaming Carriage House\, Woodway\, TX
CATEGORIES:Game Day
END:VEVENT
BEGIN:VEVENT
DTSTART;TZID=America/Chicago:20230905T080000
DTEND;TZID=America/Chicago:20230905T120000
DTSTAMP:20260425T115526
CREATED:20230905T062441Z
LAST-MODIFIED:20230905T062441Z
UID:9150-1693900800-1693915200@centexboardgameminiatures.org
SUMMARY:Descent - Legends of the Dark
DESCRIPTION:
URL:https://centexboardgameminiatures.org/event/descent-legends-of-the-dark-2/
LOCATION:TX
CATEGORIES:Game Day
END:VEVENT
BEGIN:VEVENT
DTSTART;TZID=America/Chicago:20230904T060000
DTEND;TZID=America/Chicago:20230904T120000
DTSTAMP:20260425T115526
CREATED:20230903T035051Z
LAST-MODIFIED:20230905T055532Z
UID:9137-1693807200-1693828800@centexboardgameminiatures.org
SUMMARY:Descent - Legends of the Dark: The Elemental Cycle
DESCRIPTION:
URL:https://centexboardgameminiatures.org/event/descent-legends-of-the-dark/
LOCATION:Gaming Carriage House\, Woodway\, TX
CATEGORIES:Game Day
END:VEVENT
BEGIN:VEVENT
DTSTART;TZID=America/Chicago:20230903T080000
DTEND;TZID=America/Chicago:20230903T120000
DTSTAMP:20260425T115526
CREATED:20230830T111559Z
LAST-MODIFIED:20230830T112005Z
UID:9126-1693728000-1693742400@centexboardgameminiatures.org
SUMMARY:Descent: Playing with Fire
DESCRIPTION:
URL:https://centexboardgameminiatures.org/event/descent-playing-with-fire/
LOCATION:Gaming Carriage House\, Woodway\, TX
CATEGORIES:Game Day
END:VEVENT
BEGIN:VEVENT
DTSTART;TZID=America/Chicago:20230829T050000
DTEND;TZID=America/Chicago:20230829T090000
DTSTAMP:20260425T115526
CREATED:20230829T073527Z
LAST-MODIFIED:20230830T112036Z
UID:9113-1693285200-1693299600@centexboardgameminiatures.org
SUMMARY:Descent: Playing with Fire
DESCRIPTION:
URL:https://centexboardgameminiatures.org/event/descent-journey-in-the-dark-second-scenario/
LOCATION:Gaming Carriage House\, Woodway\, TX
CATEGORIES:Game Day
END:VEVENT
BEGIN:VEVENT
DTSTART;TZID=America/Chicago:20230827T130000
DTEND;TZID=America/Chicago:20230827T170000
DTSTAMP:20260425T115526
CREATED:20230827T021339Z
LAST-MODIFIED:20230829T074127Z
UID:9047-1693141200-1693155600@centexboardgameminiatures.org
SUMMARY:Descent - Journey in the Dark
DESCRIPTION:
URL:https://centexboardgameminiatures.org/event/descent-journey-in-the-dark/
LOCATION:Gaming Carriage House\, Woodway\, TX
CATEGORIES:Game Day
END:VEVENT
BEGIN:VEVENT
DTSTART;TZID=America/Chicago:20230824T080000
DTEND;TZID=America/Chicago:20230824T120000
DTSTAMP:20260425T115526
CREATED:20230827T021238Z
LAST-MODIFIED:20230827T021238Z
UID:9045-1692864000-1692878400@centexboardgameminiatures.org
SUMMARY:Mansions of Madness - Horrific Journey
DESCRIPTION:
URL:https://centexboardgameminiatures.org/event/mansions-of-madness-horrific-journey/
LOCATION:Gaming Carriage House\, Woodway\, TX
CATEGORIES:Game Day
END:VEVENT
BEGIN:VEVENT
DTSTART;TZID=America/Chicago:20230820T080000
DTEND;TZID=America/Chicago:20230820T120000
DTSTAMP:20260425T115526
CREATED:20230827T021121Z
LAST-MODIFIED:20230827T021121Z
UID:9043-1692518400-1692532800@centexboardgameminiatures.org
SUMMARY:Mansions of Madness
DESCRIPTION:
URL:https://centexboardgameminiatures.org/event/mansions-of-madness/
LOCATION:Gaming Carriage House\, Woodway\, TX
CATEGORIES:Game Day
END:VEVENT
BEGIN:VEVENT
DTSTART;TZID=America/Chicago:20230730T130000
DTEND;TZID=America/Chicago:20230730T170000
DTSTAMP:20260425T115526
CREATED:20230724T115304Z
LAST-MODIFIED:20230724T115542Z
UID:8991-1690722000-1690736400@centexboardgameminiatures.org
SUMMARY:Wild West
DESCRIPTION:
URL:https://centexboardgameminiatures.org/event/wild-west/
LOCATION:Gaming Carriage House\, Woodway\, TX
CATEGORIES:Game Day
END:VEVENT
BEGIN:VEVENT
DTSTART;TZID=America/Chicago:20230723T070000
DTEND;TZID=America/Chicago:20230723T120000
DTSTAMP:20260425T115526
CREATED:20230723T062309Z
LAST-MODIFIED:20230723T062309Z
UID:8980-1690095600-1690113600@centexboardgameminiatures.org
SUMMARY:Mage Knight
DESCRIPTION:
URL:https://centexboardgameminiatures.org/event/mage-knight/
LOCATION:Gaming Carriage House\, Woodway\, TX
CATEGORIES:Game Day
END:VEVENT
BEGIN:VEVENT
DTSTART;TZID=America/Chicago:20230716T060000
DTEND;TZID=America/Chicago:20230716T130000
DTSTAMP:20260425T115527
CREATED:20230716T082435Z
LAST-MODIFIED:20230716T083223Z
UID:8845-1689487200-1689512400@centexboardgameminiatures.org
SUMMARY:Mage Knight Cooperative
DESCRIPTION:
URL:https://centexboardgameminiatures.org/event/mage-knight-cooperative-2/
LOCATION:TX
CATEGORIES:Game Day
END:VEVENT
BEGIN:VEVENT
DTSTART;TZID=America/Chicago:20230715T080000
DTEND;TZID=America/Chicago:20230715T120000
DTSTAMP:20260425T115527
CREATED:20230716T082300Z
LAST-MODIFIED:20230716T082627Z
UID:8841-1689408000-1689422400@centexboardgameminiatures.org
SUMMARY:Mage Knight Cooperative
DESCRIPTION:
URL:https://centexboardgameminiatures.org/event/mage-knight-cooperative/
LOCATION:Gaming Carriage House\, Woodway\, TX
CATEGORIES:Game Day
END:VEVENT
BEGIN:VEVENT
DTSTART;TZID=America/Chicago:20230617T060000
DTEND;TZID=America/Chicago:20230617T120000
DTSTAMP:20260425T115527
CREATED:20230616T112011Z
LAST-MODIFIED:20230616T112024Z
UID:8448-1686981600-1687003200@centexboardgameminiatures.org
SUMMARY:Mage Knight - Full Game
DESCRIPTION:
URL:https://centexboardgameminiatures.org/event/mage-knight-full-game/
LOCATION:Gaming Carriage House\, Woodway\, TX
CATEGORIES:Game Day
END:VEVENT
BEGIN:VEVENT
DTSTART;TZID=America/Chicago:20230614T080000
DTEND;TZID=America/Chicago:20230614T120000
DTSTAMP:20260425T115527
CREATED:20230614T071125Z
LAST-MODIFIED:20230614T071125Z
UID:8420-1686729600-1686744000@centexboardgameminiatures.org
SUMMARY:Mage Knight - Scenario One
DESCRIPTION:
URL:https://centexboardgameminiatures.org/event/mage-knight-scenario-one/
LOCATION:Gaming Carriage House\, Woodway\, TX
CATEGORIES:Game Day
END:VEVENT
BEGIN:VEVENT
DTSTART;TZID=America/Chicago:20230314T080000
DTEND;TZID=America/Chicago:20230314T120000
DTSTAMP:20260425T115527
CREATED:20230313T064653Z
LAST-MODIFIED:20230313T071014Z
UID:8122-1678780800-1678795200@centexboardgameminiatures.org
SUMMARY:Flock Till We Drop
DESCRIPTION:Do the retreat from Moscow figures
URL:https://centexboardgameminiatures.org/event/flock-till-we-drop/
LOCATION:Gaming Carriage House\, Woodway\, TX
CATEGORIES:Workshop
END:VEVENT
END:VCALENDAR