BEGIN:VCALENDAR
VERSION:2.0
PRODID:-//Central Texas Board Game and Miniatures - ECPv6.15.20//NONSGML v1.0//EN
CALSCALE:GREGORIAN
METHOD:PUBLISH
X-WR-CALNAME:Central Texas Board Game and Miniatures
X-ORIGINAL-URL:https://centexboardgameminiatures.org
X-WR-CALDESC:Events for Central Texas Board Game and Miniatures
REFRESH-INTERVAL;VALUE=DURATION:PT1H
X-Robots-Tag:noindex
X-PUBLISHED-TTL:PT1H
BEGIN:VTIMEZONE
TZID:America/Chicago
BEGIN:DAYLIGHT
TZOFFSETFROM:-0600
TZOFFSETTO:-0500
TZNAME:CDT
DTSTART:20230312T080000
END:DAYLIGHT
BEGIN:STANDARD
TZOFFSETFROM:-0500
TZOFFSETTO:-0600
TZNAME:CST
DTSTART:20231105T070000
END:STANDARD
BEGIN:DAYLIGHT
TZOFFSETFROM:-0600
TZOFFSETTO:-0500
TZNAME:CDT
DTSTART:20240310T080000
END:DAYLIGHT
BEGIN:STANDARD
TZOFFSETFROM:-0500
TZOFFSETTO:-0600
TZNAME:CST
DTSTART:20241103T070000
END:STANDARD
BEGIN:DAYLIGHT
TZOFFSETFROM:-0600
TZOFFSETTO:-0500
TZNAME:CDT
DTSTART:20250309T080000
END:DAYLIGHT
BEGIN:STANDARD
TZOFFSETFROM:-0500
TZOFFSETTO:-0600
TZNAME:CST
DTSTART:20251102T070000
END:STANDARD
BEGIN:DAYLIGHT
TZOFFSETFROM:-0600
TZOFFSETTO:-0500
TZNAME:CDT
DTSTART:20260308T080000
END:DAYLIGHT
BEGIN:STANDARD
TZOFFSETFROM:-0500
TZOFFSETTO:-0600
TZNAME:CST
DTSTART:20261101T070000
END:STANDARD
END:VTIMEZONE
BEGIN:VEVENT
DTSTART;TZID=America/Chicago:20250206T130000
DTEND;TZID=America/Chicago:20250206T170000
DTSTAMP:20260423T191838
CREATED:20250203T041436Z
LAST-MODIFIED:20250203T041436Z
UID:11991-1738846800-1738861200@centexboardgameminiatures.org
SUMMARY:Nemesis
DESCRIPTION:
URL:https://centexboardgameminiatures.org/event/nemesis-2/
LOCATION:Gaming Carriage House\, Woodway\, TX
CATEGORIES:Game Day
END:VEVENT
BEGIN:VEVENT
DTSTART;TZID=America/Chicago:20250204T130000
DTEND;TZID=America/Chicago:20250204T170000
DTSTAMP:20260423T191838
CREATED:20250203T041345Z
LAST-MODIFIED:20250203T041345Z
UID:11989-1738674000-1738688400@centexboardgameminiatures.org
SUMMARY:Nemesis
DESCRIPTION:
URL:https://centexboardgameminiatures.org/event/nemesis/
LOCATION:Gaming Carriage House\, Woodway\, TX
CATEGORIES:Game Day
END:VEVENT
BEGIN:VEVENT
DTSTART;TZID=America/Chicago:20250202T130000
DTEND;TZID=America/Chicago:20250202T170000
DTSTAMP:20260423T191838
CREATED:20250203T041217Z
LAST-MODIFIED:20250203T041217Z
UID:11987-1738501200-1738515600@centexboardgameminiatures.org
SUMMARY:The Other Side of the Hill
DESCRIPTION:
URL:https://centexboardgameminiatures.org/event/the-other-side-of-the-hill/
LOCATION:Gaming Carriage House\, Woodway\, TX
CATEGORIES:Game Day
END:VEVENT
BEGIN:VEVENT
DTSTART;TZID=America/Chicago:20250130T130000
DTEND;TZID=America/Chicago:20250130T170000
DTSTAMP:20260423T191838
CREATED:20250129T045342Z
LAST-MODIFIED:20250129T052547Z
UID:11948-1738242000-1738256400@centexboardgameminiatures.org
SUMMARY:Burning Banners: Rage of the Witch Queen: Goblins versus Forjland
DESCRIPTION:
URL:https://centexboardgameminiatures.org/event/burning-banners-rage-of-the-witch-queen-goblins-versus-vikings/
LOCATION:Gaming Carriage House\, Woodway\, TX
CATEGORIES:Game Day
END:VEVENT
BEGIN:VEVENT
DTSTART;TZID=America/Chicago:20250128T120000
DTEND;TZID=America/Chicago:20250128T170000
DTSTAMP:20260423T191838
CREATED:20250129T045223Z
LAST-MODIFIED:20250129T052304Z
UID:11946-1738065600-1738083600@centexboardgameminiatures.org
SUMMARY:Burning Banners: Rage of the Witch Queen: Great Goblin Raid
DESCRIPTION:
URL:https://centexboardgameminiatures.org/event/burning-banners-rage-of-the-witch-queen-orc-versus-goblins/
LOCATION:Gaming Carriage House\, Woodway\, TX
CATEGORIES:Game Day
END:VEVENT
BEGIN:VEVENT
DTSTART;TZID=America/Chicago:20250126T130000
DTEND;TZID=America/Chicago:20250126T170000
DTSTAMP:20260423T191838
CREATED:20250129T045109Z
LAST-MODIFIED:20250129T052444Z
UID:11944-1737896400-1737910800@centexboardgameminiatures.org
SUMMARY:Burning Banners: Rage of the Witch Queen - Empire vs Forjland
DESCRIPTION:
URL:https://centexboardgameminiatures.org/event/burning-banners-rage-of-the-witch-queen-learning-scenarios/
LOCATION:Gaming Carriage House\, Woodway\, TX
CATEGORIES:Game Day
END:VEVENT
BEGIN:VEVENT
DTSTART;TZID=America/Chicago:20250121T130000
DTEND;TZID=America/Chicago:20250121T170000
DTSTAMP:20260423T191838
CREATED:20250120T072139Z
LAST-MODIFIED:20250129T052640Z
UID:11932-1737464400-1737478800@centexboardgameminiatures.org
SUMMARY:Burning Banners: Learning Scenario - Forjland versus Dwarves
DESCRIPTION:
URL:https://centexboardgameminiatures.org/event/burning-banners/
LOCATION:Gaming Carriage House\, Woodway\, TX
CATEGORIES:Game Day
END:VEVENT
BEGIN:VEVENT
DTSTART;TZID=America/Chicago:20250119T130000
DTEND;TZID=America/Chicago:20250119T180000
DTSTAMP:20260423T191838
CREATED:20250119T091826Z
LAST-MODIFIED:20250119T092707Z
UID:11904-1737291600-1737309600@centexboardgameminiatures.org
SUMMARY:The Other Side of the Hill
DESCRIPTION:
URL:https://centexboardgameminiatures.org/event/over-the-hill-2/
LOCATION:TX
CATEGORIES:Game Day
END:VEVENT
BEGIN:VEVENT
DTSTART;TZID=America/Chicago:20250114T180000
DTEND;TZID=America/Chicago:20250114T230000
DTSTAMP:20260423T191838
CREATED:20250119T091712Z
LAST-MODIFIED:20250119T092746Z
UID:11902-1736877600-1736895600@centexboardgameminiatures.org
SUMMARY:The Other Side of the Hill
DESCRIPTION:
URL:https://centexboardgameminiatures.org/event/over-the-hill/
LOCATION:Gaming Carriage House\, Woodway\, TX
CATEGORIES:Game Day
END:VEVENT
BEGIN:VEVENT
DTSTART;TZID=America/Chicago:20250112T130000
DTEND;TZID=America/Chicago:20250112T180000
DTSTAMP:20260423T191838
CREATED:20250109T070249Z
LAST-MODIFIED:20250109T070249Z
UID:11888-1736686800-1736704800@centexboardgameminiatures.org
SUMMARY:Unfathomable - The Abyss
DESCRIPTION:
URL:https://centexboardgameminiatures.org/event/unfathomable-the-abyss-2/
LOCATION:Gaming Carriage House\, Woodway\, TX
CATEGORIES:Game Day
END:VEVENT
BEGIN:VEVENT
DTSTART;TZID=America/Chicago:20250105T130000
DTEND;TZID=America/Chicago:20250105T180000
DTSTAMP:20260423T191838
CREATED:20250109T070119Z
LAST-MODIFIED:20250109T070119Z
UID:11886-1736082000-1736100000@centexboardgameminiatures.org
SUMMARY:Unfathomable - The Abyss
DESCRIPTION:
URL:https://centexboardgameminiatures.org/event/unfathomable-the-abyss/
LOCATION:Gaming Carriage House\, Woodway\, TX
CATEGORIES:Game Day
END:VEVENT
BEGIN:VEVENT
DTSTART;TZID=America/Chicago:20241224T130000
DTEND;TZID=America/Chicago:20241224T170000
DTSTAMP:20260423T191838
CREATED:20241221T173439Z
LAST-MODIFIED:20241221T173528Z
UID:11859-1735045200-1735059600@centexboardgameminiatures.org
SUMMARY:Unfathomable - The Abyss
DESCRIPTION:
URL:https://centexboardgameminiatures.org/event/unfathomable-4/
LOCATION:Gaming Carriage House\, Woodway\, TX
CATEGORIES:Game Day
END:VEVENT
BEGIN:VEVENT
DTSTART;TZID=America/Chicago:20241222T130000
DTEND;TZID=America/Chicago:20241222T170000
DTSTAMP:20260423T191838
CREATED:20241221T173329Z
LAST-MODIFIED:20241221T173329Z
UID:11857-1734872400-1734886800@centexboardgameminiatures.org
SUMMARY:Unfathomable
DESCRIPTION:
URL:https://centexboardgameminiatures.org/event/unfathomable-3/
LOCATION:Gaming Carriage House\, Woodway\, TX
CATEGORIES:Game Day
END:VEVENT
BEGIN:VEVENT
DTSTART;TZID=America/Chicago:20241215T130000
DTEND;TZID=America/Chicago:20241215T180000
DTSTAMP:20260423T191838
CREATED:20241215T054026Z
LAST-MODIFIED:20241215T054026Z
UID:11839-1734267600-1734285600@centexboardgameminiatures.org
SUMMARY:Unfathomable
DESCRIPTION:
URL:https://centexboardgameminiatures.org/event/unfathomable-2/
LOCATION:Gaming Carriage House\, Woodway\, TX
CATEGORIES:Game Day
END:VEVENT
BEGIN:VEVENT
DTSTART;TZID=America/Chicago:20241208T130000
DTEND;TZID=America/Chicago:20241208T180000
DTSTAMP:20260423T191838
CREATED:20241215T053939Z
LAST-MODIFIED:20241215T053939Z
UID:11837-1733662800-1733680800@centexboardgameminiatures.org
SUMMARY:Unfathomable
DESCRIPTION:
URL:https://centexboardgameminiatures.org/event/unfathomable/
LOCATION:Gaming Carriage House\, Woodway\, TX
CATEGORIES:Game Day
END:VEVENT
BEGIN:VEVENT
DTSTART;TZID=America/Chicago:20241205T130000
DTEND;TZID=America/Chicago:20241205T170000
DTSTAMP:20260423T191838
CREATED:20241205T030640Z
LAST-MODIFIED:20241205T030640Z
UID:11806-1733403600-1733418000@centexboardgameminiatures.org
SUMMARY:Mansions of Madness
DESCRIPTION:
URL:https://centexboardgameminiatures.org/event/mansions-of-madness-6/
LOCATION:Gaming Carriage House\, Woodway\, TX
CATEGORIES:Game Day
END:VEVENT
BEGIN:VEVENT
DTSTART;TZID=America/Chicago:20241203T130000
DTEND;TZID=America/Chicago:20241203T170000
DTSTAMP:20260423T191838
CREATED:20241205T030428Z
LAST-MODIFIED:20241205T030428Z
UID:11802-1733230800-1733245200@centexboardgameminiatures.org
SUMMARY:Mansions of Madness
DESCRIPTION:
URL:https://centexboardgameminiatures.org/event/mansions-of-madness-4/
LOCATION:Gaming Carriage House\, Woodway\, TX
END:VEVENT
BEGIN:VEVENT
DTSTART;TZID=America/Chicago:20241201T130000
DTEND;TZID=America/Chicago:20241201T170000
DTSTAMP:20260423T191838
CREATED:20241205T030549Z
LAST-MODIFIED:20241205T030549Z
UID:11804-1733058000-1733072400@centexboardgameminiatures.org
SUMMARY:Mansions of Madness
DESCRIPTION:
URL:https://centexboardgameminiatures.org/event/mansions-of-madness-5/
LOCATION:Gaming Carriage House\, Woodway\, TX
END:VEVENT
BEGIN:VEVENT
DTSTART;TZID=America/Chicago:20241126T130000
DTEND;TZID=America/Chicago:20241126T170000
DTSTAMP:20260423T191838
CREATED:20241205T030802Z
LAST-MODIFIED:20241205T030838Z
UID:11808-1732626000-1732640400@centexboardgameminiatures.org
SUMMARY:Acquire
DESCRIPTION:
URL:https://centexboardgameminiatures.org/event/acquire/
LOCATION:Gaming Carriage House\, Woodway\, TX
END:VEVENT
BEGIN:VEVENT
DTSTART;TZID=America/Chicago:20241124T130000
DTEND;TZID=America/Chicago:20241124T170000
DTSTAMP:20260423T191838
CREATED:20241205T031044Z
LAST-MODIFIED:20241205T031044Z
UID:11810-1732453200-1732467600@centexboardgameminiatures.org
SUMMARY:Cthulhu
DESCRIPTION:
URL:https://centexboardgameminiatures.org/event/cthulhu/
LOCATION:Gaming Carriage House\, Woodway\, TX
END:VEVENT
BEGIN:VEVENT
DTSTART;TZID=America/Chicago:20241022T080000
DTEND;TZID=America/Chicago:20241022T170000
DTSTAMP:20260423T191838
CREATED:20241022T062544Z
LAST-MODIFIED:20241022T063125Z
UID:11678-1729584000-1729616400@centexboardgameminiatures.org
SUMMARY:SAS: Rogue Regiment
DESCRIPTION:SAS: Rogue Regiment is a WW2 stealth action game for 1-4 players. Taking on the role of SAS soldiers in the pivotal weeks following D-Day\, players must carry out acts of sabotage deep behind enemy lines. \nAmbush convoys\, assassinate high ranking officers\, destroy ammo dumps and much\, much more in your four man campaign against the Axis war machine! \nStrike from the shadows!\nTake down enemy patrols and sentries with the vast array of tools at your disposal\, from rifles\, explosives and grenades to vehicles\, traps and your trusty fighting knife. \nLeave no trace!\nMove quickly and quietly to complete your objectives. Kill silently and hide the bodies to avoid detection. Get spotted\, make too much noise or take too long to carry out your objective and the enemy will raise the alarm. Your heavily outnumbered team won’t last long in a firefight so when the attack comes\, make sure you’re in position to make four men feel like a hundred! \nGameplay\nEach turn\, every SAS operator has 4 action points which they can use to move\, shoot and carry out tasks. During the "stealth phase" of the game\, enemy movement is dictated by patrol lines\, sentry points and an event card which is drawn each turn. Each mission has a stealth meter which will slowly fill each time the players arouse suspicion (firing weapons\, leaving bodies out in the open etc.) If the stealth meter completely fills the players are detected & the alarm will sound\, triggering the "battle phase". The aim of the game is to carry out the mission objective and escape the area unscathed\, the easiest way to do this is to avoid detection for as long as possible.
URL:https://centexboardgameminiatures.org/event/sas-rogue-regiment/
LOCATION:TX
END:VEVENT
BEGIN:VEVENT
DTSTART;TZID=America/Chicago:20241006T130000
DTEND;TZID=America/Chicago:20241006T170000
DTSTAMP:20260423T191838
CREATED:20240929T234758Z
LAST-MODIFIED:20241002T032305Z
UID:11606-1728219600-1728234000@centexboardgameminiatures.org
SUMMARY:Axis and Allies 50th Anniversary Edition
DESCRIPTION:
URL:https://centexboardgameminiatures.org/event/here-i-stand/
LOCATION:Gaming Carriage House\, Woodway\, TX
CATEGORIES:Game Day
END:VEVENT
BEGIN:VEVENT
DTSTART;VALUE=DATE:20241003
DTEND;VALUE=DATE:20241004
DTSTAMP:20260423T191838
CREATED:20240929T234838Z
LAST-MODIFIED:20240929T234907Z
UID:11608-1727913600-1727999999@centexboardgameminiatures.org
SUMMARY:No Game
DESCRIPTION:
URL:https://centexboardgameminiatures.org/event/no-game-2/
LOCATION:Gaming Carriage House\, Woodway\, TX
END:VEVENT
BEGIN:VEVENT
DTSTART;TZID=America/Chicago:20241001T110000
DTEND;TZID=America/Chicago:20241001T170000
DTSTAMP:20260423T191838
CREATED:20240929T234703Z
LAST-MODIFIED:20240929T234703Z
UID:11604-1727780400-1727802000@centexboardgameminiatures.org
SUMMARY:Dune
DESCRIPTION:
URL:https://centexboardgameminiatures.org/event/dune-2/
LOCATION:Gaming Carriage House\, Woodway\, TX
CATEGORIES:Game Day
END:VEVENT
BEGIN:VEVENT
DTSTART;TZID=America/Chicago:20240929T130000
DTEND;TZID=America/Chicago:20240929T170000
DTSTAMP:20260423T191838
CREATED:20240929T234611Z
LAST-MODIFIED:20240929T234611Z
UID:11602-1727614800-1727629200@centexboardgameminiatures.org
SUMMARY:Dune
DESCRIPTION:
URL:https://centexboardgameminiatures.org/event/dune/
LOCATION:Gaming Carriage House\, Woodway\, TX
CATEGORIES:Game Day
END:VEVENT
BEGIN:VEVENT
DTSTART;TZID=America/Chicago:20240926T080000
DTEND;TZID=America/Chicago:20240926T170000
DTSTAMP:20260423T191838
CREATED:20240929T234525Z
LAST-MODIFIED:20240929T234525Z
UID:11600-1727337600-1727370000@centexboardgameminiatures.org
SUMMARY:Mansions of Madness
DESCRIPTION:
URL:https://centexboardgameminiatures.org/event/mansions-of-madness-3/
LOCATION:Gaming Carriage House\, Woodway\, TX
CATEGORIES:Game Day
END:VEVENT
BEGIN:VEVENT
DTSTART;TZID=America/Chicago:20240915T080000
DTEND;TZID=America/Chicago:20240915T170000
DTSTAMP:20260423T191838
CREATED:20240929T234425Z
LAST-MODIFIED:20240929T234425Z
UID:11598-1726387200-1726419600@centexboardgameminiatures.org
SUMMARY:Mansions of Madness
DESCRIPTION:
URL:https://centexboardgameminiatures.org/event/mansions-of-madness-2/
LOCATION:Gaming Carriage House\, Woodway\, TX
CATEGORIES:Game Day
END:VEVENT
BEGIN:VEVENT
DTSTART;TZID=America/Chicago:20240910T130000
DTEND;TZID=America/Chicago:20240910T170000
DTSTAMP:20260423T191838
CREATED:20240909T012809Z
LAST-MODIFIED:20240909T012851Z
UID:11521-1725973200-1725987600@centexboardgameminiatures.org
SUMMARY:Cyberpunk 2077: Gangs of Night City - City Tour
DESCRIPTION:
URL:https://centexboardgameminiatures.org/event/cyberpunk-2077-gangs-of-night-city-city-tour/
LOCATION:Gaming Carriage House\, Woodway\, TX
CATEGORIES:Game Day
END:VEVENT
BEGIN:VEVENT
DTSTART;TZID=America/Chicago:20240908T130000
DTEND;TZID=America/Chicago:20240908T170000
DTSTAMP:20260423T191838
CREATED:20240906T045548Z
LAST-MODIFIED:20240906T045548Z
UID:11518-1725800400-1725814800@centexboardgameminiatures.org
SUMMARY:Cyberpunk 2077: Gangs of Night City
DESCRIPTION:
URL:https://centexboardgameminiatures.org/event/cyberpunk-2077-gangs-of-night-city-3/
LOCATION:Gaming Carriage House\, Woodway\, TX
CATEGORIES:Game Day
END:VEVENT
BEGIN:VEVENT
DTSTART;TZID=America/Chicago:20240905T100000
DTEND;TZID=America/Chicago:20240905T100000
DTSTAMP:20260423T191838
CREATED:20240904T061218Z
LAST-MODIFIED:20240906T045658Z
UID:11502-1725530400-1725530400@centexboardgameminiatures.org
SUMMARY:Cyberpunk 2077: Gangs of Night City
DESCRIPTION:
URL:https://centexboardgameminiatures.org/event/cyberpunk-2077-gangs-of-night-city-2/
LOCATION:Gaming Carriage House\, Woodway\, TX
CATEGORIES:Game Day
END:VEVENT
END:VCALENDAR