BEGIN:VCALENDAR
VERSION:2.0
PRODID:-//Central Texas Board Game and Miniatures - ECPv6.15.20//NONSGML v1.0//EN
CALSCALE:GREGORIAN
METHOD:PUBLISH
X-WR-CALNAME:Central Texas Board Game and Miniatures
X-ORIGINAL-URL:https://centexboardgameminiatures.org
X-WR-CALDESC:Events for Central Texas Board Game and Miniatures
REFRESH-INTERVAL;VALUE=DURATION:PT1H
X-Robots-Tag:noindex
X-PUBLISHED-TTL:PT1H
BEGIN:VTIMEZONE
TZID:America/Chicago
BEGIN:DAYLIGHT
TZOFFSETFROM:-0600
TZOFFSETTO:-0500
TZNAME:CDT
DTSTART:20190310T080000
END:DAYLIGHT
BEGIN:STANDARD
TZOFFSETFROM:-0500
TZOFFSETTO:-0600
TZNAME:CST
DTSTART:20191103T070000
END:STANDARD
BEGIN:DAYLIGHT
TZOFFSETFROM:-0600
TZOFFSETTO:-0500
TZNAME:CDT
DTSTART:20200308T080000
END:DAYLIGHT
BEGIN:STANDARD
TZOFFSETFROM:-0500
TZOFFSETTO:-0600
TZNAME:CST
DTSTART:20201101T070000
END:STANDARD
BEGIN:DAYLIGHT
TZOFFSETFROM:-0600
TZOFFSETTO:-0500
TZNAME:CDT
DTSTART:20210314T080000
END:DAYLIGHT
BEGIN:STANDARD
TZOFFSETFROM:-0500
TZOFFSETTO:-0600
TZNAME:CST
DTSTART:20211107T070000
END:STANDARD
END:VTIMEZONE
BEGIN:VEVENT
DTSTART;TZID=America/Chicago:20200913T110000
DTEND;TZID=America/Chicago:20200913T170000
DTSTAMP:20260425T083350
CREATED:20200910T095433Z
LAST-MODIFIED:20200913T113946Z
UID:243-1599994800-1600016400@centexboardgameminiatures.org
SUMMARY:Death May Die - 1.3
DESCRIPTION:Death May Die – Season 1 – Exp 3\n‘Find the Sorcerers Among the Party Goers’ \n \n 
URL:https://centexboardgameminiatures.org/event/death-may-die-1-3/
LOCATION:Gaming Carriage House\, Woodway\, TX
CATEGORIES:Game Day
END:VEVENT
BEGIN:VEVENT
DTSTART;TZID=America/Chicago:20200907T110000
DTEND;TZID=America/Chicago:20200907T170000
DTSTAMP:20260425T083350
CREATED:20200910T094638Z
LAST-MODIFIED:20200913T114153Z
UID:240-1599476400-1599498000@centexboardgameminiatures.org
SUMMARY:Death May Die -  1.2
DESCRIPTION:Death May Die – Season 1 – Exp 2\n‘Destroy the Ritual Tomes’ \n \nDMD_Rulebook_web
URL:https://centexboardgameminiatures.org/event/death-may-die-1-2/
LOCATION:Gaming Carriage House\, Woodway\, TX
CATEGORIES:Game Day
END:VEVENT
BEGIN:VEVENT
DTSTART;TZID=America/Chicago:20200906T110000
DTEND;TZID=America/Chicago:20200906T170000
DTSTAMP:20260425T083350
CREATED:20200910T072049Z
LAST-MODIFIED:20200913T114249Z
UID:189-1599390000-1599411600@centexboardgameminiatures.org
SUMMARY:Death May Die -  1.1
DESCRIPTION:Death May Die – Season 1 – Exp 1\n‘Destroy the Lab Experiment Ritual’ \n \nDMD_Rulebook_web
URL:https://centexboardgameminiatures.org/event/death-may-die-season-1-exp-1/
LOCATION:Gaming Carriage House\, Woodway\, TX
END:VEVENT
BEGIN:VEVENT
DTSTART;TZID=America/Chicago:20200831T110000
DTEND;TZID=America/Chicago:20200831T170000
DTSTAMP:20260425T083350
CREATED:20200910T095745Z
LAST-MODIFIED:20200910T095745Z
UID:246-1598871600-1598893200@centexboardgameminiatures.org
SUMMARY:Spectre Ops 2
DESCRIPTION:
URL:https://centexboardgameminiatures.org/event/spectre-ops-2/
LOCATION:Gaming Carriage House\, Woodway\, TX
CATEGORIES:Game Day
END:VEVENT
BEGIN:VEVENT
DTSTART;TZID=America/Chicago:20200823T110000
DTEND;TZID=America/Chicago:20200823T170000
DTSTAMP:20260425T083350
CREATED:20200910T100800Z
LAST-MODIFIED:20200910T100800Z
UID:250-1598180400-1598202000@centexboardgameminiatures.org
SUMMARY:War Room
DESCRIPTION:War Room \nEuropean Campaign \nWR_RULES_125-1
URL:https://centexboardgameminiatures.org/event/war-room/
LOCATION:Gaming Carriage House\, Woodway\, TX
CATEGORIES:Game Day
END:VEVENT
BEGIN:VEVENT
DTSTART;TZID=America/Chicago:20200816T110000
DTEND;TZID=America/Chicago:20200816T170000
DTSTAMP:20260425T083350
CREATED:20200910T100927Z
LAST-MODIFIED:20200910T100927Z
UID:252-1597575600-1597597200@centexboardgameminiatures.org
SUMMARY:WarRoom
DESCRIPTION:War Room \nEuropean Campaign \nWR_RULES_125-1
URL:https://centexboardgameminiatures.org/event/warroom/
LOCATION:Gaming Carriage House\, Woodway\, TX
END:VEVENT
END:VCALENDAR