BEGIN:VCALENDAR
VERSION:2.0
PRODID:-//Central Texas Board Game and Miniatures - ECPv6.15.20//NONSGML v1.0//EN
CALSCALE:GREGORIAN
METHOD:PUBLISH
X-WR-CALNAME:Central Texas Board Game and Miniatures
X-ORIGINAL-URL:https://centexboardgameminiatures.org
X-WR-CALDESC:Events for Central Texas Board Game and Miniatures
REFRESH-INTERVAL;VALUE=DURATION:PT1H
X-Robots-Tag:noindex
X-PUBLISHED-TTL:PT1H
BEGIN:VTIMEZONE
TZID:America/Chicago
BEGIN:DAYLIGHT
TZOFFSETFROM:-0600
TZOFFSETTO:-0500
TZNAME:CDT
DTSTART:20190310T080000
END:DAYLIGHT
BEGIN:STANDARD
TZOFFSETFROM:-0500
TZOFFSETTO:-0600
TZNAME:CST
DTSTART:20191103T070000
END:STANDARD
BEGIN:DAYLIGHT
TZOFFSETFROM:-0600
TZOFFSETTO:-0500
TZNAME:CDT
DTSTART:20200308T080000
END:DAYLIGHT
BEGIN:STANDARD
TZOFFSETFROM:-0500
TZOFFSETTO:-0600
TZNAME:CST
DTSTART:20201101T070000
END:STANDARD
BEGIN:DAYLIGHT
TZOFFSETFROM:-0600
TZOFFSETTO:-0500
TZNAME:CDT
DTSTART:20210314T080000
END:DAYLIGHT
BEGIN:STANDARD
TZOFFSETFROM:-0500
TZOFFSETTO:-0600
TZNAME:CST
DTSTART:20211107T070000
END:STANDARD
BEGIN:DAYLIGHT
TZOFFSETFROM:-0600
TZOFFSETTO:-0500
TZNAME:CDT
DTSTART:20220313T080000
END:DAYLIGHT
BEGIN:STANDARD
TZOFFSETFROM:-0500
TZOFFSETTO:-0600
TZNAME:CST
DTSTART:20221106T070000
END:STANDARD
BEGIN:DAYLIGHT
TZOFFSETFROM:-0600
TZOFFSETTO:-0500
TZNAME:CDT
DTSTART:20230312T080000
END:DAYLIGHT
BEGIN:STANDARD
TZOFFSETFROM:-0500
TZOFFSETTO:-0600
TZNAME:CST
DTSTART:20231105T070000
END:STANDARD
BEGIN:DAYLIGHT
TZOFFSETFROM:-0600
TZOFFSETTO:-0500
TZNAME:CDT
DTSTART:20240310T080000
END:DAYLIGHT
BEGIN:STANDARD
TZOFFSETFROM:-0500
TZOFFSETTO:-0600
TZNAME:CST
DTSTART:20241103T070000
END:STANDARD
END:VTIMEZONE
BEGIN:VEVENT
DTSTART;TZID=America/Chicago:20230614T080000
DTEND;TZID=America/Chicago:20230614T120000
DTSTAMP:20260425T085936
CREATED:20230614T071125Z
LAST-MODIFIED:20230614T071125Z
UID:8420-1686729600-1686744000@centexboardgameminiatures.org
SUMMARY:Mage Knight - Scenario One
DESCRIPTION:
URL:https://centexboardgameminiatures.org/event/mage-knight-scenario-one/
LOCATION:Gaming Carriage House\, Woodway\, TX
CATEGORIES:Game Day
END:VEVENT
BEGIN:VEVENT
DTSTART;TZID=America/Chicago:20230314T080000
DTEND;TZID=America/Chicago:20230314T120000
DTSTAMP:20260425T085936
CREATED:20230313T064653Z
LAST-MODIFIED:20230313T071014Z
UID:8122-1678780800-1678795200@centexboardgameminiatures.org
SUMMARY:Flock Till We Drop
DESCRIPTION:Do the retreat from Moscow figures
URL:https://centexboardgameminiatures.org/event/flock-till-we-drop/
LOCATION:Gaming Carriage House\, Woodway\, TX
CATEGORIES:Workshop
END:VEVENT
BEGIN:VEVENT
DTSTART;TZID=America/Chicago:20230312T080000
DTEND;TZID=America/Chicago:20230312T120000
DTSTAMP:20260425T085936
CREATED:20230313T064348Z
LAST-MODIFIED:20230313T064348Z
UID:8118-1678608000-1678622400@centexboardgameminiatures.org
SUMMARY:Vietnam: Hostage Rescue - Laos
DESCRIPTION:
URL:https://centexboardgameminiatures.org/event/vietnam-hostage-rescue-laos/
LOCATION:Gaming Carriage House\, Woodway\, TX
CATEGORIES:Game Day
END:VEVENT
BEGIN:VEVENT
DTSTART;TZID=America/Chicago:20230311T060000
DTEND;TZID=America/Chicago:20230311T110000
DTSTAMP:20260425T085936
CREATED:20230313T064456Z
LAST-MODIFIED:20230313T070657Z
UID:8120-1678514400-1678532400@centexboardgameminiatures.org
SUMMARY:Pathfinder
DESCRIPTION:
URL:https://centexboardgameminiatures.org/event/pathfinder/
LOCATION:Gaming Carriage House\, Woodway\, TX
CATEGORIES:Game Day
END:VEVENT
BEGIN:VEVENT
DTSTART;TZID=America/Chicago:20230226T050000
DTEND;TZID=America/Chicago:20230226T110000
DTSTAMP:20260425T085936
CREATED:20230221T095627Z
LAST-MODIFIED:20230313T070905Z
UID:8070-1677387600-1677409200@centexboardgameminiatures.org
SUMMARY:Vietnam: Firebase Alpha Charlie 52
DESCRIPTION:Sunday: February 26\n11:00 am \nVietnam: Firebase Alpha Charlie 52 \nBOHICA is a set of wargames rules specifically for the Vietnam Wars 1945 to 197…….They therefore cover the French Indo China War as well as the later conflicts involving ‘Free World Forces’ and the final days of the conflict as well as the Vietnamese invasion of Cambodia and following Chinese invasion invasion of Vietnam.   \nThey are for games ranging from small units operations where every figure is independent to larger games of squad/ section/ platoon/ company and above. The true balance is the platoon level of approximately 30 figures depending of your unit orbat. \nFigures/units operate under a Skills & Drills level that depending on their ability governs how many Action Points are allotted and can then be ‘spent’ on actions covering such areas as observation\, movement\, firing\, melee etc. Therefore\, a Navy Seal unit with a S&D level of 5 has 5 AP to ‘spend’ that move. A local militia unit with an S&D score of 2 has only 2 AP to ‘spend’. There is even a hero category for such characters as Rambo if that’s what you want. \nAction Points cover all possible action so spend 1 AP to try and observe\, 1 AP to aim carefully at your target and 1 AP to fire. If you still have some to spend then perhaps diving for good cover is worth doing. \nThe rules cover all aspects of the conflict including the use of vehicles and aircraft from helicopters to fixed wing and these work in the same was regarding S&D and AP except of course their movement is separate to the AP system. \nAlso covered are communications\, booby traps\, snakes\, food poisoning\, vehicle mechanical breakdown\, command and control\, medics\, artillery\, all types of weapons\, and so much more. Add to this a random chance factor linked to scenarios and BOHICA provides an easy to play\, fast flowing\, realistic and fun game with both sides having a good chance of victory. \nGm’d by Jerry Powellgrab a claymore or AK 47 and make a comment if you wish to join.
URL:https://centexboardgameminiatures.org/event/vietnam-firebase-alpha-charlie-52/
LOCATION:Gaming Carriage House\, Woodway\, TX
CATEGORIES:Game Day
END:VEVENT
BEGIN:VEVENT
DTSTART;TZID=America/Chicago:20230212T110000
DTEND;TZID=America/Chicago:20230212T170000
DTSTAMP:20260425T085936
CREATED:20230212T115606Z
LAST-MODIFIED:20230212T115606Z
UID:7564-1676199600-1676221200@centexboardgameminiatures.org
SUMMARY:Vietnam - Rubble in the Jungle
DESCRIPTION:
URL:https://centexboardgameminiatures.org/event/vietnam-rubble-in-the-jungle/
LOCATION:Gaming Carriage House\, Woodway\, TX
CATEGORIES:Game Day
END:VEVENT
BEGIN:VEVENT
DTSTART;TZID=America/Chicago:20230129T130000
DTEND;TZID=America/Chicago:20230129T170000
DTSTAMP:20260425T085936
CREATED:20230128T085146Z
LAST-MODIFIED:20230129T085509Z
UID:7551-1674997200-1675011600@centexboardgameminiatures.org
SUMMARY:Successor (second round)
DESCRIPTION:
URL:https://centexboardgameminiatures.org/event/successor-second-round/
CATEGORIES:Game Day
END:VEVENT
BEGIN:VEVENT
DTSTART;TZID=America/Chicago:20230122T120000
DTEND;TZID=America/Chicago:20230122T170000
DTSTAMP:20260425T085936
CREATED:20230122T080943Z
LAST-MODIFIED:20230122T080943Z
UID:7532-1674388800-1674406800@centexboardgameminiatures.org
SUMMARY:Successor
DESCRIPTION:Video 1. Successor – how to play part 1 \nVideo 2. Successor – how to play part 2 \nVideo 3.  Successor – how to play part 3
URL:https://centexboardgameminiatures.org/event/successor/
LOCATION:Gaming Carriage House\, Woodway\, TX
CATEGORIES:Game Day
END:VEVENT
BEGIN:VEVENT
DTSTART;TZID=America/Chicago:20230115T130000
DTEND;TZID=America/Chicago:20230115T170000
DTSTAMP:20260425T085936
CREATED:20230112T085015Z
LAST-MODIFIED:20230112T085015Z
UID:7510-1673787600-1673802000@centexboardgameminiatures.org
SUMMARY:Gunfighter’s Ball - Part Treis
DESCRIPTION:
URL:https://centexboardgameminiatures.org/event/gunfighters-ball-part-treis/
LOCATION:Gaming Carriage House\, Woodway\, TX
CATEGORIES:Game Day
END:VEVENT
BEGIN:VEVENT
DTSTART;TZID=America/Chicago:20230115T070000
DTEND;TZID=America/Chicago:20230115T110000
DTSTAMP:20260425T085936
CREATED:20230109T071004Z
LAST-MODIFIED:20230109T071004Z
UID:7507-1673766000-1673780400@centexboardgameminiatures.org
SUMMARY:Gunfighter’s Ball
DESCRIPTION:
URL:https://centexboardgameminiatures.org/event/gunfighters-ball-3/
LOCATION:Gaming Carriage House\, Woodway\, TX
END:VEVENT
BEGIN:VEVENT
DTSTART;TZID=America/Chicago:20230108T070000
DTEND;TZID=America/Chicago:20230108T110000
DTSTAMP:20260425T085936
CREATED:20230109T070902Z
LAST-MODIFIED:20230109T070902Z
UID:7505-1673161200-1673175600@centexboardgameminiatures.org
SUMMARY:Gunfighter’s Ball
DESCRIPTION:
URL:https://centexboardgameminiatures.org/event/gunfighters-ball-2/
CATEGORIES:Game Day
END:VEVENT
BEGIN:VEVENT
DTSTART;TZID=America/Chicago:20230101T070000
DTEND;TZID=America/Chicago:20230101T110000
DTSTAMP:20260425T085936
CREATED:20230109T070818Z
LAST-MODIFIED:20230109T070818Z
UID:7503-1672556400-1672570800@centexboardgameminiatures.org
SUMMARY:Gunfighter’s Ball
DESCRIPTION:
URL:https://centexboardgameminiatures.org/event/gunfighters-ball/
CATEGORIES:Game Day
END:VEVENT
BEGIN:VEVENT
DTSTART;VALUE=DATE:20221109
DTEND;VALUE=DATE:20221114
DTSTAMP:20260425T085936
CREATED:20220907T060914Z
LAST-MODIFIED:20220907T060914Z
UID:7304-1668016800-1668362399@centexboardgameminiatures.org
SUMMARY:MillenniumCon 2022
DESCRIPTION:
URL:https://centexboardgameminiatures.org/event/millenniumcon-2022/
END:VEVENT
BEGIN:VEVENT
DTSTART;TZID=America/Chicago:20220912T120000
DTEND;TZID=America/Chicago:20220912T170000
DTSTAMP:20260425T085936
CREATED:20220912T061851Z
LAST-MODIFIED:20220912T061851Z
UID:7320-1662984000-1663002000@centexboardgameminiatures.org
SUMMARY:Anno Domini - 1666
DESCRIPTION:
URL:https://centexboardgameminiatures.org/event/anno-domini-1666-2/
LOCATION:Lee's House
CATEGORIES:Game Day
END:VEVENT
BEGIN:VEVENT
DTSTART;TZID=America/Chicago:20220911T110000
DTEND;TZID=America/Chicago:20220911T180000
DTSTAMP:20260425T085936
CREATED:20220906T224911Z
LAST-MODIFIED:20220910T022341Z
UID:7301-1662894000-1662919200@centexboardgameminiatures.org
SUMMARY:Anno Domini 1666
DESCRIPTION:It is the year of our Lord 1666. Emperor Leopold is dead. The election looms. European monarchs send their envoys to Vienna to participate. But the struggle for the Empire’s future takes place not only at the noble courts. In Vienna’s slums and alleys swashbucklers\, musketeers and thugs wage a secret war on behalf of their powerful superiors. \nAnno Domini 1666 is a tactical adventure miniatures game in which two players pit their bands against each other in order to achieve specific goals defined by a scenario. The game takes place on boards depicting 17th-century Vienna with a grid overlay. Dice rolls are replaced by cards either played from a player’s hand\, or drawn blindly from a deck. A scenario’s objectives may include defeating the opponents in combat\, but also stealing a valuable object or breaking out a hostage\, among others. \nThe theme and characters of the game are based on real-world history\, historical novels (such as Three Musketeers) but also feature magic\, alchemy\, wizards and fantastical creatures. The participating factions are the Poles\, the French\, the Ottomans and the evil sect Broken Cross. They can get help from the Vienna locals (thugs\, urchins\, merchants) and famous mercenaries. The process of building a band is fast and streamlined thanks to a draft system.
URL:https://centexboardgameminiatures.org/event/anno-domini-1666/
LOCATION:Gaming Carriage House\, Woodway\, TX
CATEGORIES:Game Day
END:VEVENT
BEGIN:VEVENT
DTSTART;TZID=America/Chicago:20220224T040000
DTEND;TZID=America/Chicago:20220224T110000
DTSTAMP:20260425T085936
CREATED:20220222T080819Z
LAST-MODIFIED:20220222T080819Z
UID:6958-1645675200-1645700400@centexboardgameminiatures.org
SUMMARY:Battle Masters - Part 2 (The Reckoning)
DESCRIPTION:Tie breaker for the Battle Master Campaign
URL:https://centexboardgameminiatures.org/event/battle-masters-part-2-the-reckoning/
LOCATION:Gaming Carriage House\, Woodway\, TX
CATEGORIES:Game Day
END:VEVENT
BEGIN:VEVENT
DTSTART;VALUE=DATE:20211109
DTEND;VALUE=DATE:20211115
DTSTAMP:20260425T085936
CREATED:20210703T091713Z
LAST-MODIFIED:20210904T101817Z
UID:6212-1636480800-1636912799@centexboardgameminiatures.org
SUMMARY:Historicon - Valley Forge
DESCRIPTION:
URL:https://centexboardgameminiatures.org/event/historicon-valley-forge/
CATEGORIES:Game Day
END:VEVENT
BEGIN:VEVENT
DTSTART;TZID=America/Chicago:20210906T060000
DTEND;TZID=America/Chicago:20210906T120000
DTSTAMP:20260425T085936
CREATED:20210904T101328Z
LAST-MODIFIED:20210904T101718Z
UID:6522-1630908000-1630929600@centexboardgameminiatures.org
SUMMARY:Chain of Command
DESCRIPTION:
URL:https://centexboardgameminiatures.org/event/chain-of-command/
CATEGORIES:Game Day
END:VEVENT
BEGIN:VEVENT
DTSTART;TZID=America/Chicago:20210830T060000
DTEND;TZID=America/Chicago:20210830T120000
DTSTAMP:20260425T085936
CREATED:20210904T101350Z
LAST-MODIFIED:20210904T101645Z
UID:6520-1630303200-1630324800@centexboardgameminiatures.org
SUMMARY:Chain of Command - Securing St-Come-du-Mont
DESCRIPTION:
URL:https://centexboardgameminiatures.org/event/chain-of-command-2/
CATEGORIES:Game Day
END:VEVENT
BEGIN:VEVENT
DTSTART;TZID=America/Chicago:20210816T060000
DTEND;TZID=America/Chicago:20210816T120000
DTSTAMP:20260425T085936
CREATED:20210809T065355Z
LAST-MODIFIED:20210809T065355Z
UID:6410-1629093600-1629115200@centexboardgameminiatures.org
SUMMARY:Waterloo
DESCRIPTION:Award winning Waterloo game. Uses Carnage and Glory. 3D sculptored game board.
URL:https://centexboardgameminiatures.org/event/waterloo/
CATEGORIES:Game Day
END:VEVENT
BEGIN:VEVENT
DTSTART;TZID=America/Chicago:20210809T060000
DTEND;TZID=America/Chicago:20210809T120000
DTSTAMP:20260425T085936
CREATED:20210809T065034Z
LAST-MODIFIED:20210809T065034Z
UID:6408-1628488800-1628510400@centexboardgameminiatures.org
SUMMARY:Twilight Imperium
DESCRIPTION:
URL:https://centexboardgameminiatures.org/event/twilight-imperium-2/
CATEGORIES:Game Day
END:VEVENT
BEGIN:VEVENT
DTSTART;TZID=America/Chicago:20210801T080000
DTEND;TZID=America/Chicago:20210801T120000
DTSTAMP:20260425T085936
CREATED:20210801T104123Z
LAST-MODIFIED:20210801T104123Z
UID:6392-1627804800-1627819200@centexboardgameminiatures.org
SUMMARY:Game Day
DESCRIPTION:
URL:https://centexboardgameminiatures.org/event/game-day/
CATEGORIES:Game Day
END:VEVENT
BEGIN:VEVENT
DTSTART;TZID=America/Chicago:20210731T080000
DTEND;TZID=America/Chicago:20210731T120000
DTSTAMP:20260425T085936
CREATED:20210731T052950Z
LAST-MODIFIED:20210801T104252Z
UID:6372-1627718400-1627732800@centexboardgameminiatures.org
SUMMARY:Twilight Imperium Run Through (part 4)
DESCRIPTION:Learning to play Twilight Imperium by following a video step by step with full setup.
URL:https://centexboardgameminiatures.org/event/twilight-imperium-run-through-part-4/
CATEGORIES:Game Day
END:VEVENT
BEGIN:VEVENT
DTSTART;TZID=America/Chicago:20210724T080000
DTEND;TZID=America/Chicago:20210724T130000
DTSTAMP:20260425T085936
CREATED:20210724T070109Z
LAST-MODIFIED:20210724T070754Z
UID:6338-1627113600-1627131600@centexboardgameminiatures.org
SUMMARY:Twilight Imperium
DESCRIPTION:Just initial setup and going through the rules.
URL:https://centexboardgameminiatures.org/event/twilight-imperium/
LOCATION:Gaming Carriage House\, Woodway\, TX
END:VEVENT
BEGIN:VEVENT
DTSTART;TZID=America/Chicago:20210711T050000
DTEND;TZID=America/Chicago:20210711T120000
DTSTAMP:20260425T085936
CREATED:20210708T094146Z
LAST-MODIFIED:20210708T224413Z
UID:6247-1625979600-1626004800@centexboardgameminiatures.org
SUMMARY:EastFront - Columbia Games
DESCRIPTION:East Front Rules \nhttps://centexboardgameminiatures.org/wp-content/uploads/2021/07/East-Front-rules.pdf \nEast Front - rules
URL:https://centexboardgameminiatures.org/event/eastfront-columbia-games/
CATEGORIES:Game Day
END:VEVENT
BEGIN:VEVENT
DTSTART;TZID=America/Chicago:20210705T060000
DTEND;TZID=America/Chicago:20210705T120000
DTSTAMP:20260425T085936
CREATED:20210703T091039Z
LAST-MODIFIED:20210705T040552Z
UID:6207-1625464800-1625486400@centexboardgameminiatures.org
SUMMARY:Tide of Iron - 11:00 AM
DESCRIPTION:
URL:https://centexboardgameminiatures.org/event/black-swan-1100-am/
END:VEVENT
BEGIN:VEVENT
DTSTART;TZID=America/Chicago:20210703T060000
DTEND;TZID=America/Chicago:20210703T120000
DTSTAMP:20260425T085936
CREATED:20210703T090852Z
LAST-MODIFIED:20210703T091119Z
UID:6205-1625292000-1625313600@centexboardgameminiatures.org
SUMMARY:Black Swan 1943 - 11:00 AM
DESCRIPTION:
URL:https://centexboardgameminiatures.org/event/black-swan-1943-1100-am/
CATEGORIES:Game Day
END:VEVENT
BEGIN:VEVENT
DTSTART;TZID=America/Chicago:20200920T110000
DTEND;TZID=America/Chicago:20200920T170000
DTSTAMP:20260425T085936
CREATED:20200914T145211Z
LAST-MODIFIED:20200914T145211Z
UID:4527-1600599600-1600621200@centexboardgameminiatures.org
SUMMARY:Mansion of Madness
DESCRIPTION:Horrific monsters and spectral presences lurk in manors\, crypts\, schools\, monasteries\, and derelict buildings near Arkham\, Massachusetts. Some spin dark conspiracies while others wait for hapless victims to devour or drive insane. It’s up to a handful of brave investigators to explore these cursed places and uncover the truth about the living nightmares within. \nDesigned by Corey Konieczka\, Mansions of Madness is a macabre game of horror\, insanity\, and mystery for two to five players. Each game takes place within a pre-designed story that provides players with a unique map and several combinations of plot threads. These threads affect the monsters that investigators may encounter\, the clues they need to find\, and which climactic story ending they will ultimately experience. One player takes on the role of the keeper\, controlling the monsters and other malicious powers within the story. The other players take on the roles of investigators\, searching for answers while struggling to survive with their minds intact. \nDo you dare enter the Mansions of Madness?
URL:https://centexboardgameminiatures.org/event/mansion-of-madness/
LOCATION:Gaming Carriage House\, Woodway\, TX
CATEGORIES:Game Day
END:VEVENT
BEGIN:VEVENT
DTSTART;TZID=America/Chicago:20200913T110000
DTEND;TZID=America/Chicago:20200913T170000
DTSTAMP:20260425T085937
CREATED:20200910T095433Z
LAST-MODIFIED:20200913T113946Z
UID:243-1599994800-1600016400@centexboardgameminiatures.org
SUMMARY:Death May Die - 1.3
DESCRIPTION:Death May Die – Season 1 – Exp 3\n‘Find the Sorcerers Among the Party Goers’ \n \n 
URL:https://centexboardgameminiatures.org/event/death-may-die-1-3/
LOCATION:Gaming Carriage House\, Woodway\, TX
CATEGORIES:Game Day
END:VEVENT
BEGIN:VEVENT
DTSTART;TZID=America/Chicago:20200907T110000
DTEND;TZID=America/Chicago:20200907T170000
DTSTAMP:20260425T085937
CREATED:20200910T094638Z
LAST-MODIFIED:20200913T114153Z
UID:240-1599476400-1599498000@centexboardgameminiatures.org
SUMMARY:Death May Die -  1.2
DESCRIPTION:Death May Die – Season 1 – Exp 2\n‘Destroy the Ritual Tomes’ \n \nDMD_Rulebook_web
URL:https://centexboardgameminiatures.org/event/death-may-die-1-2/
LOCATION:Gaming Carriage House\, Woodway\, TX
CATEGORIES:Game Day
END:VEVENT
END:VCALENDAR