BEGIN:VCALENDAR
VERSION:2.0
PRODID:-//Central Texas Board Game and Miniatures - ECPv6.15.20//NONSGML v1.0//EN
CALSCALE:GREGORIAN
METHOD:PUBLISH
X-ORIGINAL-URL:https://centexboardgameminiatures.org
X-WR-CALDESC:Events for Central Texas Board Game and Miniatures
REFRESH-INTERVAL;VALUE=DURATION:PT1H
X-Robots-Tag:noindex
X-PUBLISHED-TTL:PT1H
BEGIN:VTIMEZONE
TZID:America/Chicago
BEGIN:DAYLIGHT
TZOFFSETFROM:-0600
TZOFFSETTO:-0500
TZNAME:CDT
DTSTART:20240310T080000
END:DAYLIGHT
BEGIN:STANDARD
TZOFFSETFROM:-0500
TZOFFSETTO:-0600
TZNAME:CST
DTSTART:20241103T070000
END:STANDARD
BEGIN:DAYLIGHT
TZOFFSETFROM:-0600
TZOFFSETTO:-0500
TZNAME:CDT
DTSTART:20250309T080000
END:DAYLIGHT
BEGIN:STANDARD
TZOFFSETFROM:-0500
TZOFFSETTO:-0600
TZNAME:CST
DTSTART:20251102T070000
END:STANDARD
BEGIN:DAYLIGHT
TZOFFSETFROM:-0600
TZOFFSETTO:-0500
TZNAME:CDT
DTSTART:20260308T080000
END:DAYLIGHT
BEGIN:STANDARD
TZOFFSETFROM:-0500
TZOFFSETTO:-0600
TZNAME:CST
DTSTART:20261101T070000
END:STANDARD
BEGIN:DAYLIGHT
TZOFFSETFROM:-0600
TZOFFSETTO:-0500
TZNAME:CDT
DTSTART:20270314T080000
END:DAYLIGHT
BEGIN:STANDARD
TZOFFSETFROM:-0500
TZOFFSETTO:-0600
TZNAME:CST
DTSTART:20271107T070000
END:STANDARD
END:VTIMEZONE
BEGIN:VEVENT
DTSTART;TZID=America/Chicago:20250715T130000
DTEND;TZID=America/Chicago:20250715T180000
DTSTAMP:20260424T034630
CREATED:20250718T041335Z
LAST-MODIFIED:20250718T041335Z
UID:12879-1752584400-1752602400@centexboardgameminiatures.org
SUMMARY:Mansions of Madness - Astral Alchemy
DESCRIPTION:
URL:https://centexboardgameminiatures.org/event/mansions-of-madness-astral-alchemy-2/
LOCATION:Gaming Carriage House\, Woodway\, TX
CATEGORIES:Game Day
END:VEVENT
BEGIN:VEVENT
DTSTART;TZID=America/Chicago:20250717T130000
DTEND;TZID=America/Chicago:20250717T180000
DTSTAMP:20260424T034630
CREATED:20250718T041243Z
LAST-MODIFIED:20250718T041243Z
UID:12877-1752757200-1752775200@centexboardgameminiatures.org
SUMMARY:Mansions of Madness - Astral Alchemy
DESCRIPTION:
URL:https://centexboardgameminiatures.org/event/mansions-of-madness-astral-alchemy/
LOCATION:Gaming Carriage House\, Woodway\, TX
CATEGORIES:Game Day
END:VEVENT
BEGIN:VEVENT
DTSTART;TZID=America/Chicago:20250720T130000
DTEND;TZID=America/Chicago:20250720T170000
DTSTAMP:20260424T034630
CREATED:20250718T044523Z
LAST-MODIFIED:20250726T124607Z
UID:12902-1753016400-1753030800@centexboardgameminiatures.org
SUMMARY:Mansions of Madness: The Jungle Awakens
DESCRIPTION:
URL:https://centexboardgameminiatures.org/event/mansions-of-madness-10/
LOCATION:Gaming Carriage House\, Woodway\, TX
CATEGORIES:Game Day
END:VEVENT
BEGIN:VEVENT
DTSTART;TZID=America/Chicago:20250724T130000
DTEND;TZID=America/Chicago:20250724T180000
DTSTAMP:20260424T034630
CREATED:20250726T124332Z
LAST-MODIFIED:20250726T124332Z
UID:13013-1753362000-1753380000@centexboardgameminiatures.org
SUMMARY:Mansions of Madness: In the Dark
DESCRIPTION:
URL:https://centexboardgameminiatures.org/event/mansions-of-madness-in-the-dark/
LOCATION:Gaming Carriage House\, Woodway\, TX
CATEGORIES:Game Day
END:VEVENT
BEGIN:VEVENT
DTSTART;TZID=America/Chicago:20250727T130000
DTEND;TZID=America/Chicago:20250727T180000
DTSTAMP:20260424T034630
CREATED:20250726T124705Z
LAST-MODIFIED:20250726T124705Z
UID:13016-1753621200-1753639200@centexboardgameminiatures.org
SUMMARY:Mansions of Madness
DESCRIPTION:
URL:https://centexboardgameminiatures.org/event/mansions-of-madness-11/
LOCATION:Gaming Carriage House\, Woodway\, TX
CATEGORIES:Game Day
END:VEVENT
BEGIN:VEVENT
DTSTART;TZID=America/Chicago:20250803T130000
DTEND;TZID=America/Chicago:20250803T170000
DTSTAMP:20260424T034630
CREATED:20250804T035150Z
LAST-MODIFIED:20250804T035507Z
UID:13039-1754226000-1754240400@centexboardgameminiatures.org
SUMMARY:Mansions of Madness: Silverwood Manor
DESCRIPTION:
URL:https://centexboardgameminiatures.org/event/silverwood-manor/
LOCATION:Gaming Carriage House\, Woodway\, TX
CATEGORIES:Game Day
END:VEVENT
BEGIN:VEVENT
DTSTART;TZID=America/Chicago:20250805T130000
DTEND;TZID=America/Chicago:20250805T170000
DTSTAMP:20260424T034630
CREATED:20250813T055029Z
LAST-MODIFIED:20250814T060927Z
UID:13075-1754398800-1754413200@centexboardgameminiatures.org
SUMMARY:Mansions of Madness - Dark Reflections
DESCRIPTION:
URL:https://centexboardgameminiatures.org/event/15mm-napoleonic-russians-basing/
LOCATION:Gaming Carriage House\, Woodway\, TX
CATEGORIES:Game Day
END:VEVENT
BEGIN:VEVENT
DTSTART;TZID=America/Chicago:20250807T130000
DTEND;TZID=America/Chicago:20250807T170000
DTSTAMP:20260424T034630
CREATED:20250813T055130Z
LAST-MODIFIED:20250813T055130Z
UID:13077-1754571600-1754586000@centexboardgameminiatures.org
SUMMARY:15mm Napoleonic Russians - Basing
DESCRIPTION:
URL:https://centexboardgameminiatures.org/event/15mm-napoleonic-russians-basing-2/
LOCATION:Gaming Carriage House\, Woodway\, TX
CATEGORIES:Game Day
END:VEVENT
BEGIN:VEVENT
DTSTART;TZID=America/Chicago:20250810T130000
DTEND;TZID=America/Chicago:20250810T170000
DTSTAMP:20260424T034630
CREATED:20250813T055240Z
LAST-MODIFIED:20250813T055240Z
UID:13079-1754830800-1754845200@centexboardgameminiatures.org
SUMMARY:15mm Napoleonic Russians - Basing
DESCRIPTION:
URL:https://centexboardgameminiatures.org/event/15mm-napoleonic-russians-basing-3/
LOCATION:Gaming Carriage House\, Woodway\, TX
CATEGORIES:Workshop
END:VEVENT
BEGIN:VEVENT
DTSTART;TZID=America/Chicago:20250812T080000
DTEND;TZID=America/Chicago:20250812T170000
DTSTAMP:20260424T034630
CREATED:20250814T061205Z
LAST-MODIFIED:20250814T061205Z
UID:13101-1754985600-1755018000@centexboardgameminiatures.org
SUMMARY:15mm Napoleonic Russians - Basing
DESCRIPTION:
URL:https://centexboardgameminiatures.org/event/15mm-napoleonic-russians-basing-5/
LOCATION:Gaming Carriage House\, Woodway\, TX
CATEGORIES:Workshop
END:VEVENT
BEGIN:VEVENT
DTSTART;TZID=America/Chicago:20250814T130000
DTEND;TZID=America/Chicago:20250814T170000
DTSTAMP:20260424T034630
CREATED:20250813T055326Z
LAST-MODIFIED:20250813T055542Z
UID:13081-1755176400-1755190800@centexboardgameminiatures.org
SUMMARY:15mm Napoleonic Russians - Basing
DESCRIPTION:
URL:https://centexboardgameminiatures.org/event/15mm-napoleonic-russians-basing-4/
LOCATION:Gaming Carriage House\, Woodway\, TX
CATEGORIES:Workshop
END:VEVENT
BEGIN:VEVENT
DTSTART;TZID=America/Chicago:20260412T130000
DTEND;TZID=America/Chicago:20260412T170000
DTSTAMP:20260424T034630
CREATED:20260413T062642Z
LAST-MODIFIED:20260413T062642Z
UID:13793-1775998800-1776013200@centexboardgameminiatures.org
SUMMARY:LOTR: Fate of the Fellowship
DESCRIPTION:
URL:https://centexboardgameminiatures.org/event/lotr-fate-of-the-fellowship/
LOCATION:Gaming Carriage House\, Woodway\, TX
CATEGORIES:Game Day
END:VEVENT
BEGIN:VEVENT
DTSTART;TZID=America/Chicago:20260414T130000
DTEND;TZID=America/Chicago:20260414T170000
DTSTAMP:20260424T034630
CREATED:20260413T062927Z
LAST-MODIFIED:20260413T062927Z
UID:13795-1776171600-1776186000@centexboardgameminiatures.org
SUMMARY:Imperial Borders - Learning Session
DESCRIPTION:
URL:https://centexboardgameminiatures.org/event/imperial-borders-learning-session/
LOCATION:Gaming Carriage House\, Woodway\, TX
CATEGORIES:Workshop
END:VEVENT
BEGIN:VEVENT
DTSTART;TZID=America/Chicago:20260416T130000
DTEND;TZID=America/Chicago:20260416T180000
DTSTAMP:20260424T034631
CREATED:20260415T223853Z
LAST-MODIFIED:20260415T224146Z
UID:13816-1776344400-1776362400@centexboardgameminiatures.org
SUMMARY:DUNGEONS & DRAGONS: WATERDEEP: DUNGEON OF THE MAD MAGE
DESCRIPTION:
URL:https://centexboardgameminiatures.org/event/dungeons-dragons-waterdeep-dungeon-of-the-mad-mage/
LOCATION:Gaming Carriage House\, Woodway\, TX
CATEGORIES:Game Day
END:VEVENT
BEGIN:VEVENT
DTSTART;TZID=America/Chicago:20260419T130000
DTEND;TZID=America/Chicago:20260419T170000
DTSTAMP:20260424T034631
CREATED:20260417T025041Z
LAST-MODIFIED:20260417T025041Z
UID:13824-1776603600-1776618000@centexboardgameminiatures.org
SUMMARY:LOTR: Fate of the Fellowship
DESCRIPTION:
URL:https://centexboardgameminiatures.org/event/lotr-fate-of-the-fellowship-3/
LOCATION:Gaming Carriage House\, Woodway\, TX
CATEGORIES:Game Day
END:VEVENT
BEGIN:VEVENT
DTSTART;TZID=America/Chicago:20260421T130000
DTEND;TZID=America/Chicago:20260421T170000
DTSTAMP:20260424T034631
CREATED:20260413T063103Z
LAST-MODIFIED:20260415T224312Z
UID:13797-1776776400-1776790800@centexboardgameminiatures.org
SUMMARY:Imperial Borders - Practice Game
DESCRIPTION:
URL:https://centexboardgameminiatures.org/event/imperial-borders-practice-game/
LOCATION:Gaming Carriage House\, Woodway\, TX
CATEGORIES:Demo
END:VEVENT
END:VCALENDAR