BEGIN:VCALENDAR
VERSION:2.0
PRODID:-//Central Texas Board Game and Miniatures - ECPv6.15.20//NONSGML v1.0//EN
CALSCALE:GREGORIAN
METHOD:PUBLISH
X-WR-CALNAME:Central Texas Board Game and Miniatures
X-ORIGINAL-URL:https://centexboardgameminiatures.org
X-WR-CALDESC:Events for Central Texas Board Game and Miniatures
REFRESH-INTERVAL;VALUE=DURATION:PT1H
X-Robots-Tag:noindex
X-PUBLISHED-TTL:PT1H
BEGIN:VTIMEZONE
TZID:America/Chicago
BEGIN:DAYLIGHT
TZOFFSETFROM:-0600
TZOFFSETTO:-0500
TZNAME:CDT
DTSTART:20240310T080000
END:DAYLIGHT
BEGIN:STANDARD
TZOFFSETFROM:-0500
TZOFFSETTO:-0600
TZNAME:CST
DTSTART:20241103T070000
END:STANDARD
BEGIN:DAYLIGHT
TZOFFSETFROM:-0600
TZOFFSETTO:-0500
TZNAME:CDT
DTSTART:20250309T080000
END:DAYLIGHT
BEGIN:STANDARD
TZOFFSETFROM:-0500
TZOFFSETTO:-0600
TZNAME:CST
DTSTART:20251102T070000
END:STANDARD
BEGIN:DAYLIGHT
TZOFFSETFROM:-0600
TZOFFSETTO:-0500
TZNAME:CDT
DTSTART:20260308T080000
END:DAYLIGHT
BEGIN:STANDARD
TZOFFSETFROM:-0500
TZOFFSETTO:-0600
TZNAME:CST
DTSTART:20261101T070000
END:STANDARD
END:VTIMEZONE
BEGIN:VEVENT
DTSTART;TZID=America/Chicago:20250814T130000
DTEND;TZID=America/Chicago:20250814T170000
DTSTAMP:20260423T184657
CREATED:20250813T055326Z
LAST-MODIFIED:20250813T055542Z
UID:13081-1755176400-1755190800@centexboardgameminiatures.org
SUMMARY:15mm Napoleonic Russians - Basing
DESCRIPTION:
URL:https://centexboardgameminiatures.org/event/15mm-napoleonic-russians-basing-4/
LOCATION:Gaming Carriage House\, Woodway\, TX
CATEGORIES:Workshop
END:VEVENT
BEGIN:VEVENT
DTSTART;TZID=America/Chicago:20250812T080000
DTEND;TZID=America/Chicago:20250812T170000
DTSTAMP:20260423T184657
CREATED:20250814T061205Z
LAST-MODIFIED:20250814T061205Z
UID:13101-1754985600-1755018000@centexboardgameminiatures.org
SUMMARY:15mm Napoleonic Russians - Basing
DESCRIPTION:
URL:https://centexboardgameminiatures.org/event/15mm-napoleonic-russians-basing-5/
LOCATION:Gaming Carriage House\, Woodway\, TX
CATEGORIES:Workshop
END:VEVENT
BEGIN:VEVENT
DTSTART;TZID=America/Chicago:20250810T130000
DTEND;TZID=America/Chicago:20250810T170000
DTSTAMP:20260423T184657
CREATED:20250813T055240Z
LAST-MODIFIED:20250813T055240Z
UID:13079-1754830800-1754845200@centexboardgameminiatures.org
SUMMARY:15mm Napoleonic Russians - Basing
DESCRIPTION:
URL:https://centexboardgameminiatures.org/event/15mm-napoleonic-russians-basing-3/
LOCATION:Gaming Carriage House\, Woodway\, TX
CATEGORIES:Workshop
END:VEVENT
BEGIN:VEVENT
DTSTART;TZID=America/Chicago:20250807T130000
DTEND;TZID=America/Chicago:20250807T170000
DTSTAMP:20260423T184657
CREATED:20250813T055130Z
LAST-MODIFIED:20250813T055130Z
UID:13077-1754571600-1754586000@centexboardgameminiatures.org
SUMMARY:15mm Napoleonic Russians - Basing
DESCRIPTION:
URL:https://centexboardgameminiatures.org/event/15mm-napoleonic-russians-basing-2/
LOCATION:Gaming Carriage House\, Woodway\, TX
CATEGORIES:Game Day
END:VEVENT
BEGIN:VEVENT
DTSTART;TZID=America/Chicago:20250805T130000
DTEND;TZID=America/Chicago:20250805T170000
DTSTAMP:20260423T184657
CREATED:20250813T055029Z
LAST-MODIFIED:20250814T060927Z
UID:13075-1754398800-1754413200@centexboardgameminiatures.org
SUMMARY:Mansions of Madness - Dark Reflections
DESCRIPTION:
URL:https://centexboardgameminiatures.org/event/15mm-napoleonic-russians-basing/
LOCATION:Gaming Carriage House\, Woodway\, TX
CATEGORIES:Game Day
END:VEVENT
BEGIN:VEVENT
DTSTART;TZID=America/Chicago:20250803T130000
DTEND;TZID=America/Chicago:20250803T170000
DTSTAMP:20260423T184657
CREATED:20250804T035150Z
LAST-MODIFIED:20250804T035507Z
UID:13039-1754226000-1754240400@centexboardgameminiatures.org
SUMMARY:Mansions of Madness: Silverwood Manor
DESCRIPTION:
URL:https://centexboardgameminiatures.org/event/silverwood-manor/
LOCATION:Gaming Carriage House\, Woodway\, TX
CATEGORIES:Game Day
END:VEVENT
BEGIN:VEVENT
DTSTART;TZID=America/Chicago:20250727T130000
DTEND;TZID=America/Chicago:20250727T180000
DTSTAMP:20260423T184657
CREATED:20250726T124705Z
LAST-MODIFIED:20250726T124705Z
UID:13016-1753621200-1753639200@centexboardgameminiatures.org
SUMMARY:Mansions of Madness
DESCRIPTION:
URL:https://centexboardgameminiatures.org/event/mansions-of-madness-11/
LOCATION:Gaming Carriage House\, Woodway\, TX
CATEGORIES:Game Day
END:VEVENT
BEGIN:VEVENT
DTSTART;TZID=America/Chicago:20250724T130000
DTEND;TZID=America/Chicago:20250724T180000
DTSTAMP:20260423T184657
CREATED:20250726T124332Z
LAST-MODIFIED:20250726T124332Z
UID:13013-1753362000-1753380000@centexboardgameminiatures.org
SUMMARY:Mansions of Madness: In the Dark
DESCRIPTION:
URL:https://centexboardgameminiatures.org/event/mansions-of-madness-in-the-dark/
LOCATION:Gaming Carriage House\, Woodway\, TX
CATEGORIES:Game Day
END:VEVENT
BEGIN:VEVENT
DTSTART;TZID=America/Chicago:20250720T130000
DTEND;TZID=America/Chicago:20250720T170000
DTSTAMP:20260423T184657
CREATED:20250718T044523Z
LAST-MODIFIED:20250726T124607Z
UID:12902-1753016400-1753030800@centexboardgameminiatures.org
SUMMARY:Mansions of Madness: The Jungle Awakens
DESCRIPTION:
URL:https://centexboardgameminiatures.org/event/mansions-of-madness-10/
LOCATION:Gaming Carriage House\, Woodway\, TX
CATEGORIES:Game Day
END:VEVENT
BEGIN:VEVENT
DTSTART;TZID=America/Chicago:20250717T130000
DTEND;TZID=America/Chicago:20250717T180000
DTSTAMP:20260423T184657
CREATED:20250718T041243Z
LAST-MODIFIED:20250718T041243Z
UID:12877-1752757200-1752775200@centexboardgameminiatures.org
SUMMARY:Mansions of Madness - Astral Alchemy
DESCRIPTION:
URL:https://centexboardgameminiatures.org/event/mansions-of-madness-astral-alchemy/
LOCATION:Gaming Carriage House\, Woodway\, TX
CATEGORIES:Game Day
END:VEVENT
BEGIN:VEVENT
DTSTART;TZID=America/Chicago:20250715T130000
DTEND;TZID=America/Chicago:20250715T180000
DTSTAMP:20260423T184657
CREATED:20250718T041335Z
LAST-MODIFIED:20250718T041335Z
UID:12879-1752584400-1752602400@centexboardgameminiatures.org
SUMMARY:Mansions of Madness - Astral Alchemy
DESCRIPTION:
URL:https://centexboardgameminiatures.org/event/mansions-of-madness-astral-alchemy-2/
LOCATION:Gaming Carriage House\, Woodway\, TX
CATEGORIES:Game Day
END:VEVENT
BEGIN:VEVENT
DTSTART;TZID=America/Chicago:20250713T130000
DTEND;TZID=America/Chicago:20250713T180000
DTSTAMP:20260423T184657
CREATED:20250718T042707Z
LAST-MODIFIED:20250718T042707Z
UID:12892-1752411600-1752429600@centexboardgameminiatures.org
SUMMARY:Mansions of Madness
DESCRIPTION:
URL:https://centexboardgameminiatures.org/event/mansions-of-madness-9/
LOCATION:TX
CATEGORIES:Game Day
END:VEVENT
BEGIN:VEVENT
DTSTART;TZID=America/Chicago:20250710T130000
DTEND;TZID=America/Chicago:20250710T180000
DTSTAMP:20260423T184657
CREATED:20250718T042315Z
LAST-MODIFIED:20250718T042444Z
UID:12890-1752152400-1752170400@centexboardgameminiatures.org
SUMMARY:Mansions of Madness - Astral Alchemy
DESCRIPTION:
URL:https://centexboardgameminiatures.org/event/mansions-of-madness-astral-alchemy-4/
LOCATION:Gaming Carriage House\, Woodway\, TX
CATEGORIES:Game Day
END:VEVENT
BEGIN:VEVENT
DTSTART;VALUE=DATE:20250708
DTEND;VALUE=DATE:20250709
DTSTAMP:20260423T184657
CREATED:20250718T043236Z
LAST-MODIFIED:20250718T043322Z
UID:12898-1751932800-1752019199@centexboardgameminiatures.org
SUMMARY:No Game
DESCRIPTION:
URL:https://centexboardgameminiatures.org/event/no-game-7/
LOCATION:TX
END:VEVENT
BEGIN:VEVENT
DTSTART;VALUE=DATE:20250706
DTEND;VALUE=DATE:20250707
DTSTAMP:20260423T184657
CREATED:20250718T043033Z
LAST-MODIFIED:20250718T043135Z
UID:12896-1751760000-1751846399@centexboardgameminiatures.org
SUMMARY:No Game
DESCRIPTION:
URL:https://centexboardgameminiatures.org/event/no-game-6/
LOCATION:TX
END:VEVENT
BEGIN:VEVENT
DTSTART;VALUE=DATE:20250703
DTEND;VALUE=DATE:20250704
DTSTAMP:20260423T184657
CREATED:20250718T044657Z
LAST-MODIFIED:20250718T044657Z
UID:12904-1751500800-1751587199@centexboardgameminiatures.org
SUMMARY:No Game
DESCRIPTION:
URL:https://centexboardgameminiatures.org/event/no-game-8/
LOCATION:TX
END:VEVENT
BEGIN:VEVENT
DTSTART;TZID=America/Chicago:20250701T130000
DTEND;TZID=America/Chicago:20250701T180000
DTSTAMP:20260423T184657
CREATED:20250718T041634Z
LAST-MODIFIED:20250718T042610Z
UID:12885-1751374800-1751392800@centexboardgameminiatures.org
SUMMARY:Mansions of Madness
DESCRIPTION:
URL:https://centexboardgameminiatures.org/event/mansions-of-madness-7/
LOCATION:Gaming Carriage House\, Woodway\, TX
CATEGORIES:Game Day
END:VEVENT
BEGIN:VEVENT
DTSTART;TZID=America/Chicago:20250629T130000
DTEND;TZID=America/Chicago:20250629T180000
DTSTAMP:20260423T184657
CREATED:20250718T042122Z
LAST-MODIFIED:20250718T042122Z
UID:12887-1751202000-1751220000@centexboardgameminiatures.org
SUMMARY:Mansions of Madness
DESCRIPTION:
URL:https://centexboardgameminiatures.org/event/mansions-of-madness-8/
LOCATION:Gaming Carriage House\, Woodway\, TX
CATEGORIES:Game Day
END:VEVENT
BEGIN:VEVENT
DTSTART;TZID=America/Chicago:20250626T130000
DTEND;TZID=America/Chicago:20250626T170000
DTSTAMP:20260423T184657
CREATED:20250718T040607Z
LAST-MODIFIED:20250718T042007Z
UID:12873-1750942800-1750957200@centexboardgameminiatures.org
SUMMARY:Glasgow
DESCRIPTION:
URL:https://centexboardgameminiatures.org/event/glasgow/
LOCATION:Gaming Carriage House\, Woodway\, TX
CATEGORIES:Game Day
END:VEVENT
BEGIN:VEVENT
DTSTART;TZID=America/Chicago:20250624T130000
DTEND;TZID=America/Chicago:20250624T170000
DTSTAMP:20260423T184657
CREATED:20250718T040719Z
LAST-MODIFIED:20250718T041541Z
UID:12875-1750770000-1750784400@centexboardgameminiatures.org
SUMMARY:Glasgow
DESCRIPTION:
URL:https://centexboardgameminiatures.org/event/glasgow-2/
LOCATION:Gaming Carriage House\, Woodway\, TX
CATEGORIES:Game Day
END:VEVENT
BEGIN:VEVENT
DTSTART;TZID=America/Chicago:20250622T130000
DTEND;TZID=America/Chicago:20250622T170000
DTSTAMP:20260423T184657
CREATED:20250623T064328Z
LAST-MODIFIED:20250623T064601Z
UID:12695-1750597200-1750611600@centexboardgameminiatures.org
SUMMARY:Base Figures - Dune: War for Arrakis
DESCRIPTION:
URL:https://centexboardgameminiatures.org/event/base-figures-dune-war-for-arrakis/
LOCATION:Gaming Carriage House\, Woodway\, TX
CATEGORIES:Workshop
END:VEVENT
BEGIN:VEVENT
DTSTART;TZID=America/Chicago:20250619T130000
DTEND;TZID=America/Chicago:20250619T170000
DTSTAMP:20260423T184657
CREATED:20250613T235058Z
LAST-MODIFIED:20250623T064104Z
UID:12638-1750338000-1750352400@centexboardgameminiatures.org
SUMMARY:Base Figures - Fear the Unknown
DESCRIPTION:
URL:https://centexboardgameminiatures.org/event/base-figures/
LOCATION:Gaming Carriage House\, Woodway\, TX
CATEGORIES:Workshop
END:VEVENT
BEGIN:VEVENT
DTSTART;TZID=America/Chicago:20250617T130000
DTEND;TZID=America/Chicago:20250617T170000
DTSTAMP:20260423T184657
CREATED:20250623T063923Z
LAST-MODIFIED:20250623T063923Z
UID:12693-1750165200-1750179600@centexboardgameminiatures.org
SUMMARY:Base Figures - Fear the Unknown
DESCRIPTION:
URL:https://centexboardgameminiatures.org/event/base-figures-fear-the-unknown/
LOCATION:Gaming Carriage House\, Woodway\, TX
CATEGORIES:Workshop
END:VEVENT
BEGIN:VEVENT
DTSTART;TZID=America/Chicago:20250612T130000
DTEND;TZID=America/Chicago:20250612T170000
DTSTAMP:20260423T184657
CREATED:20250613T235202Z
LAST-MODIFIED:20250613T235505Z
UID:12640-1749733200-1749747600@centexboardgameminiatures.org
SUMMARY:Sort Painted Figures - Fear the Unknown
DESCRIPTION:
URL:https://centexboardgameminiatures.org/event/sort-painted-figures/
LOCATION:Gaming Carriage House\, Woodway\, TX
CATEGORIES:Workshop
END:VEVENT
BEGIN:VEVENT
DTSTART;TZID=America/Chicago:20250610T130000
DTEND;TZID=America/Chicago:20250610T170000
DTSTAMP:20260423T184657
CREATED:20250613T235308Z
LAST-MODIFIED:20250623T063634Z
UID:12642-1749560400-1749574800@centexboardgameminiatures.org
SUMMARY:Sort Painted Figures - Miscellaneous
DESCRIPTION:
URL:https://centexboardgameminiatures.org/event/sort-painted-figures-2/
LOCATION:Gaming Carriage House\, Woodway\, TX
CATEGORIES:Workshop
END:VEVENT
BEGIN:VEVENT
DTSTART;TZID=America/Chicago:20250601T130000
DTEND;TZID=America/Chicago:20250601T180000
DTSTAMP:20260423T184657
CREATED:20250531T041929Z
LAST-MODIFIED:20250531T041929Z
UID:12363-1748782800-1748800800@centexboardgameminiatures.org
SUMMARY:TBD
DESCRIPTION:
URL:https://centexboardgameminiatures.org/event/tbd-2/
LOCATION:Gaming Carriage House\, Woodway\, TX
CATEGORIES:Game Day
END:VEVENT
BEGIN:VEVENT
DTSTART;TZID=America/Chicago:20250529T140000
DTEND;TZID=America/Chicago:20250529T180000
DTSTAMP:20260423T184657
CREATED:20250531T041806Z
LAST-MODIFIED:20250531T041806Z
UID:12361-1748527200-1748541600@centexboardgameminiatures.org
SUMMARY:Unstoppable
DESCRIPTION:
URL:https://centexboardgameminiatures.org/event/unstoppable-4/
LOCATION:Gaming Carriage House\, Woodway\, TX
CATEGORIES:Game Day
END:VEVENT
BEGIN:VEVENT
DTSTART;TZID=America/Chicago:20250527T130000
DTEND;TZID=America/Chicago:20250527T180000
DTSTAMP:20260423T184657
CREATED:20250528T041334Z
LAST-MODIFIED:20250531T041709Z
UID:12357-1748350800-1748368800@centexboardgameminiatures.org
SUMMARY:Unstoppable
DESCRIPTION:
URL:https://centexboardgameminiatures.org/event/unstoppable-3/
LOCATION:Gaming Carriage House\, Woodway\, TX
CATEGORIES:Game Day
END:VEVENT
BEGIN:VEVENT
DTSTART;TZID=America/Chicago:20250525T130000
DTEND;TZID=America/Chicago:20250525T180000
DTSTAMP:20260423T184657
CREATED:20250531T041545Z
LAST-MODIFIED:20250531T041545Z
UID:12359-1748178000-1748196000@centexboardgameminiatures.org
SUMMARY:Vampire: Milan Uprising
DESCRIPTION:
URL:https://centexboardgameminiatures.org/event/vampire-milan-uprising/
LOCATION:Gaming Carriage House\, Woodway\, TX
CATEGORIES:Game Day
END:VEVENT
BEGIN:VEVENT
DTSTART;TZID=America/Chicago:20250524T110000
DTEND;TZID=America/Chicago:20250524T180000
DTSTAMP:20260423T184657
CREATED:20250521T050713Z
LAST-MODIFIED:20250521T050713Z
UID:12334-1748084400-1748109600@centexboardgameminiatures.org
SUMMARY:Unstoppable
DESCRIPTION:
URL:https://centexboardgameminiatures.org/event/unstoppable-2/
LOCATION:Gaming Carriage House\, Woodway\, TX
CATEGORIES:Game Day
END:VEVENT
END:VCALENDAR