BEGIN:VCALENDAR
VERSION:2.0
PRODID:-//Central Texas Board Game and Miniatures - ECPv6.15.20//NONSGML v1.0//EN
CALSCALE:GREGORIAN
METHOD:PUBLISH
X-ORIGINAL-URL:https://centexboardgameminiatures.org
X-WR-CALDESC:Events for Central Texas Board Game and Miniatures
REFRESH-INTERVAL;VALUE=DURATION:PT1H
X-Robots-Tag:noindex
X-PUBLISHED-TTL:PT1H
BEGIN:VTIMEZONE
TZID:America/Chicago
BEGIN:DAYLIGHT
TZOFFSETFROM:-0600
TZOFFSETTO:-0500
TZNAME:CDT
DTSTART:20230312T080000
END:DAYLIGHT
BEGIN:STANDARD
TZOFFSETFROM:-0500
TZOFFSETTO:-0600
TZNAME:CST
DTSTART:20231105T070000
END:STANDARD
BEGIN:DAYLIGHT
TZOFFSETFROM:-0600
TZOFFSETTO:-0500
TZNAME:CDT
DTSTART:20240310T080000
END:DAYLIGHT
BEGIN:STANDARD
TZOFFSETFROM:-0500
TZOFFSETTO:-0600
TZNAME:CST
DTSTART:20241103T070000
END:STANDARD
BEGIN:DAYLIGHT
TZOFFSETFROM:-0600
TZOFFSETTO:-0500
TZNAME:CDT
DTSTART:20250309T080000
END:DAYLIGHT
BEGIN:STANDARD
TZOFFSETFROM:-0500
TZOFFSETTO:-0600
TZNAME:CST
DTSTART:20251102T070000
END:STANDARD
END:VTIMEZONE
BEGIN:VEVENT
DTSTART;TZID=America/Chicago:20240818T130000
DTEND;TZID=America/Chicago:20240818T170000
DTSTAMP:20260424T213048
CREATED:20240823T032939Z
LAST-MODIFIED:20240823T032939Z
UID:11424-1723986000-1724000400@centexboardgameminiatures.org
SUMMARY:Base Cyberpunk and Zombicide Figures
DESCRIPTION:
URL:https://centexboardgameminiatures.org/event/base-cyberpunk-and-zombicide-figures/
LOCATION:Gaming Carriage House\, Woodway\, TX
CATEGORIES:Workshop
END:VEVENT
BEGIN:VEVENT
DTSTART;TZID=America/Chicago:20240820T080000
DTEND;TZID=America/Chicago:20240820T170000
DTSTAMP:20260424T213048
CREATED:20240823T033135Z
LAST-MODIFIED:20240823T033135Z
UID:11426-1724140800-1724173200@centexboardgameminiatures.org
SUMMARY:Make Magnetic Storage Boxes and Store Based Figures
DESCRIPTION:
URL:https://centexboardgameminiatures.org/event/make-magnetic-storage-boxes-and-store-based-figures/
LOCATION:Gaming Carriage House\, Woodway\, TX
CATEGORIES:Workshop
END:VEVENT
END:VCALENDAR