BEGIN:VCALENDAR
VERSION:2.0
PRODID:-//Central Texas Board Game and Miniatures - ECPv6.15.20//NONSGML v1.0//EN
CALSCALE:GREGORIAN
METHOD:PUBLISH
X-WR-CALNAME:Central Texas Board Game and Miniatures
X-ORIGINAL-URL:https://centexboardgameminiatures.org
X-WR-CALDESC:Events for Central Texas Board Game and Miniatures
REFRESH-INTERVAL;VALUE=DURATION:PT1H
X-Robots-Tag:noindex
X-PUBLISHED-TTL:PT1H
BEGIN:VTIMEZONE
TZID:America/Chicago
BEGIN:DAYLIGHT
TZOFFSETFROM:-0600
TZOFFSETTO:-0500
TZNAME:CDT
DTSTART:20230312T080000
END:DAYLIGHT
BEGIN:STANDARD
TZOFFSETFROM:-0500
TZOFFSETTO:-0600
TZNAME:CST
DTSTART:20231105T070000
END:STANDARD
BEGIN:DAYLIGHT
TZOFFSETFROM:-0600
TZOFFSETTO:-0500
TZNAME:CDT
DTSTART:20240310T080000
END:DAYLIGHT
BEGIN:STANDARD
TZOFFSETFROM:-0500
TZOFFSETTO:-0600
TZNAME:CST
DTSTART:20241103T070000
END:STANDARD
BEGIN:DAYLIGHT
TZOFFSETFROM:-0600
TZOFFSETTO:-0500
TZNAME:CDT
DTSTART:20250309T080000
END:DAYLIGHT
BEGIN:STANDARD
TZOFFSETFROM:-0500
TZOFFSETTO:-0600
TZNAME:CST
DTSTART:20251102T070000
END:STANDARD
END:VTIMEZONE
BEGIN:VEVENT
DTSTART;VALUE=DATE:20240117
DTEND;VALUE=DATE:20240119
DTSTAMP:20260425T090600
CREATED:20240124T011658Z
LAST-MODIFIED:20240124T011658Z
UID:9977-1705514400-1705600799@centexboardgameminiatures.org
SUMMARY:Prepare Apoplectic Buildings for Paint
DESCRIPTION:
URL:https://centexboardgameminiatures.org/event/prepare-apoplectic-buildings-for-paint/
LOCATION:Gaming Carriage House\, Woodway\, TX
CATEGORIES:Workshop
END:VEVENT
BEGIN:VEVENT
DTSTART;VALUE=DATE:20240120
DTEND;VALUE=DATE:20240122
DTSTAMP:20260425T090600
CREATED:20240124T011842Z
LAST-MODIFIED:20240124T011842Z
UID:9979-1705773600-1705859999@centexboardgameminiatures.org
SUMMARY:Apoplectic Buildings Paint
DESCRIPTION:
URL:https://centexboardgameminiatures.org/event/apoplectic-buildings-paint/
LOCATION:Gaming Carriage House\, Woodway\, TX
CATEGORIES:Workshop
END:VEVENT
BEGIN:VEVENT
DTSTART;TZID=America/Chicago:20240123T020000
DTEND;TZID=America/Chicago:20240123T110000
DTSTAMP:20260425T090600
CREATED:20240124T012000Z
LAST-MODIFIED:20240124T012000Z
UID:9981-1705975200-1706007600@centexboardgameminiatures.org
SUMMARY:Cyberpunk 2077 Prepare to be Shipped for Painting
DESCRIPTION:
URL:https://centexboardgameminiatures.org/event/cyberpunk-2077-prepare-to-be-shipped-for-painting/
LOCATION:Gaming Carriage House\, Woodway\, TX
CATEGORIES:Workshop
END:VEVENT
BEGIN:VEVENT
DTSTART;VALUE=DATE:20240124
DTEND;VALUE=DATE:20240126
DTSTAMP:20260425T090600
CREATED:20240124T012244Z
LAST-MODIFIED:20240131T105830Z
UID:9983-1706119200-1706205599@centexboardgameminiatures.org
SUMMARY:Post-Apocalyptic Buildings Painting
DESCRIPTION:
URL:https://centexboardgameminiatures.org/event/apoplectic-buildings-flock/
LOCATION:Gaming Carriage House\, Woodway\, TX
CATEGORIES:Workshop
END:VEVENT
BEGIN:VEVENT
DTSTART;TZID=America/Chicago:20240128T070000
DTEND;TZID=America/Chicago:20240128T110000
DTSTAMP:20260425T090600
CREATED:20240131T105925Z
LAST-MODIFIED:20240131T110110Z
UID:10246-1706425200-1706439600@centexboardgameminiatures.org
SUMMARY:Post-Apocalyptic Buildings Painting
DESCRIPTION:
URL:https://centexboardgameminiatures.org/event/post-apocalyptic-buildings-painting/
LOCATION:Gaming Carriage House\, Woodway\, TX
CATEGORIES:Workshop
END:VEVENT
BEGIN:VEVENT
DTSTART;TZID=America/Chicago:20240130T070000
DTEND;TZID=America/Chicago:20240130T110000
DTSTAMP:20260425T090600
CREATED:20240131T110044Z
LAST-MODIFIED:20240131T110044Z
UID:10248-1706598000-1706612400@centexboardgameminiatures.org
SUMMARY:Post-Apocalyptic Buildings Flocking and Dull Coating
DESCRIPTION:
URL:https://centexboardgameminiatures.org/event/post-apocalyptic-buildings-flocking-and-dull-coating/
LOCATION:Gaming Carriage House\, Woodway\, TX
CATEGORIES:Workshop
END:VEVENT
END:VCALENDAR