BEGIN:VCALENDAR
VERSION:2.0
PRODID:-//Central Texas Board Game and Miniatures - ECPv6.15.20//NONSGML v1.0//EN
CALSCALE:GREGORIAN
METHOD:PUBLISH
X-WR-CALNAME:Central Texas Board Game and Miniatures
X-ORIGINAL-URL:https://centexboardgameminiatures.org
X-WR-CALDESC:Events for Central Texas Board Game and Miniatures
REFRESH-INTERVAL;VALUE=DURATION:PT1H
X-Robots-Tag:noindex
X-PUBLISHED-TTL:PT1H
BEGIN:VTIMEZONE
TZID:America/Chicago
BEGIN:DAYLIGHT
TZOFFSETFROM:-0600
TZOFFSETTO:-0500
TZNAME:CDT
DTSTART:20220313T080000
END:DAYLIGHT
BEGIN:STANDARD
TZOFFSETFROM:-0500
TZOFFSETTO:-0600
TZNAME:CST
DTSTART:20221106T070000
END:STANDARD
BEGIN:DAYLIGHT
TZOFFSETFROM:-0600
TZOFFSETTO:-0500
TZNAME:CDT
DTSTART:20230312T080000
END:DAYLIGHT
BEGIN:STANDARD
TZOFFSETFROM:-0500
TZOFFSETTO:-0600
TZNAME:CST
DTSTART:20231105T070000
END:STANDARD
BEGIN:DAYLIGHT
TZOFFSETFROM:-0600
TZOFFSETTO:-0500
TZNAME:CDT
DTSTART:20240310T080000
END:DAYLIGHT
BEGIN:STANDARD
TZOFFSETFROM:-0500
TZOFFSETTO:-0600
TZNAME:CST
DTSTART:20241103T070000
END:STANDARD
BEGIN:DAYLIGHT
TZOFFSETFROM:-0600
TZOFFSETTO:-0500
TZNAME:CDT
DTSTART:20250309T080000
END:DAYLIGHT
BEGIN:STANDARD
TZOFFSETFROM:-0500
TZOFFSETTO:-0600
TZNAME:CST
DTSTART:20251102T070000
END:STANDARD
END:VTIMEZONE
BEGIN:VEVENT
DTSTART;TZID=America/Chicago:20240418T130000
DTEND;TZID=America/Chicago:20240418T180000
DTSTAMP:20260424T025233
CREATED:20240419T065855Z
LAST-MODIFIED:20240419T071940Z
UID:10619-1713445200-1713463200@centexboardgameminiatures.org
SUMMARY:Spectre
DESCRIPTION:
URL:https://centexboardgameminiatures.org/event/spectra-3/
LOCATION:Gaming Carriage House\, Woodway\, TX
CATEGORIES:Game Day
END:VEVENT
BEGIN:VEVENT
DTSTART;TZID=America/Chicago:20240416T130000
DTEND;TZID=America/Chicago:20240416T180000
DTSTAMP:20260424T025233
CREATED:20240419T065538Z
LAST-MODIFIED:20240419T065538Z
UID:10615-1713272400-1713290400@centexboardgameminiatures.org
SUMMARY:Spectra
DESCRIPTION:
URL:https://centexboardgameminiatures.org/event/spectra/
LOCATION:Gaming Carriage House\, Woodway\, TX
CATEGORIES:Game Day
END:VEVENT
BEGIN:VEVENT
DTSTART;TZID=America/Chicago:20240414T130000
DTEND;TZID=America/Chicago:20240414T180000
DTSTAMP:20260424T025233
CREATED:20240419T072318Z
LAST-MODIFIED:20240419T072318Z
UID:10641-1713099600-1713117600@centexboardgameminiatures.org
SUMMARY:Punkapocalyptic
DESCRIPTION:
URL:https://centexboardgameminiatures.org/event/punkapocalyptic/
LOCATION:Gaming Carriage House\, Woodway\, TX
CATEGORIES:Game Day
END:VEVENT
BEGIN:VEVENT
DTSTART;TZID=America/Chicago:20240413T110000
DTEND;TZID=America/Chicago:20240413T180000
DTSTAMP:20260424T025233
CREATED:20240401T040537Z
LAST-MODIFIED:20240419T072503Z
UID:10529-1713006000-1713031200@centexboardgameminiatures.org
SUMMARY:Punkapocalyptic
DESCRIPTION:
URL:https://centexboardgameminiatures.org/event/mike-miller-game/
LOCATION:Gaming Carriage House\, Woodway\, TX
CATEGORIES:Game Day
END:VEVENT
BEGIN:VEVENT
DTSTART;TZID=America/Chicago:20240317T130000
DTEND;TZID=America/Chicago:20240317T180000
DTSTAMP:20260424T025233
CREATED:20240317T024003Z
LAST-MODIFIED:20240317T025634Z
UID:10496-1710680400-1710698400@centexboardgameminiatures.org
SUMMARY:Destinies
DESCRIPTION:
URL:https://centexboardgameminiatures.org/event/destinies-3/
LOCATION:Gaming Carriage House\, Woodway\, TX
CATEGORIES:Game Day
END:VEVENT
BEGIN:VEVENT
DTSTART;TZID=America/Chicago:20240314T130000
DTEND;TZID=America/Chicago:20240314T170000
DTSTAMP:20260424T025233
CREATED:20240317T023919Z
LAST-MODIFIED:20240317T023919Z
UID:10494-1710421200-1710435600@centexboardgameminiatures.org
SUMMARY:Arkham Horror
DESCRIPTION:
URL:https://centexboardgameminiatures.org/event/arkham-horror/
LOCATION:Gaming Carriage House\, Woodway\, TX
CATEGORIES:Game Day
END:VEVENT
BEGIN:VEVENT
DTSTART;TZID=America/Chicago:20240312T130000
DTEND;TZID=America/Chicago:20240312T180000
DTSTAMP:20260424T025233
CREATED:20240317T025843Z
LAST-MODIFIED:20240317T025843Z
UID:10509-1710248400-1710266400@centexboardgameminiatures.org
SUMMARY:Arkham Horror
DESCRIPTION:
URL:https://centexboardgameminiatures.org/event/arkham-horror-2/
LOCATION:Gaming Carriage House\, Woodway\, TX
CATEGORIES:Game Day
END:VEVENT
BEGIN:VEVENT
DTSTART;TZID=America/Chicago:20240310T130000
DTEND;TZID=America/Chicago:20240310T180000
DTSTAMP:20260424T025233
CREATED:20240306T035406Z
LAST-MODIFIED:20240306T035406Z
UID:10472-1710075600-1710093600@centexboardgameminiatures.org
SUMMARY:Ancient Civilisations of the Middle East
DESCRIPTION:
URL:https://centexboardgameminiatures.org/event/ancient-civilisations-of-the-middle-east-3/
LOCATION:Gaming Carriage House\, Woodway\, TX
CATEGORIES:Game Day
END:VEVENT
BEGIN:VEVENT
DTSTART;TZID=America/Chicago:20240305T130000
DTEND;TZID=America/Chicago:20240305T180000
DTSTAMP:20260424T025233
CREATED:20240306T035313Z
LAST-MODIFIED:20240306T035313Z
UID:10470-1709643600-1709661600@centexboardgameminiatures.org
SUMMARY:Ancient Civilisations of the Middle East
DESCRIPTION:
URL:https://centexboardgameminiatures.org/event/ancient-civilisations-of-the-middle-east-2/
LOCATION:Gaming Carriage House\, Woodway\, TX
CATEGORIES:Game Day
END:VEVENT
BEGIN:VEVENT
DTSTART;TZID=America/Chicago:20240303T130000
DTEND;TZID=America/Chicago:20240303T180000
DTSTAMP:20260424T025233
CREATED:20240226T075819Z
LAST-MODIFIED:20240226T083526Z
UID:10458-1709470800-1709488800@centexboardgameminiatures.org
SUMMARY:Ancient Civilisations of the Middle East
DESCRIPTION:Ancient Civilization Rules \nhttps://centexboardgameminiatures.org/wp-content/uploads/2024/02/Ancient-Civilizations-of-the-Middle-East-Rules.pdf \n 
URL:https://centexboardgameminiatures.org/event/ancient-civilisations-of-the-middle-east/
LOCATION:Gaming Carriage House\, Woodway\, TX
CATEGORIES:Game Day
ATTACH;FMTTYPE=image/jpeg:https://centexboardgameminiatures.org/wp-content/uploads/2024/02/IMG_5323.jpeg
END:VEVENT
BEGIN:VEVENT
DTSTART;TZID=America/Chicago:20240229T130000
DTEND;TZID=America/Chicago:20240229T180000
DTSTAMP:20260424T025233
CREATED:20240226T075351Z
LAST-MODIFIED:20240227T034746Z
UID:10455-1709211600-1709229600@centexboardgameminiatures.org
SUMMARY:Dune: Uprising
DESCRIPTION:
URL:https://centexboardgameminiatures.org/event/dune-uprising/
LOCATION:Gaming Carriage House\, Woodway\, TX
CATEGORIES:Game Day
END:VEVENT
BEGIN:VEVENT
DTSTART;TZID=America/Chicago:20240225T130000
DTEND;TZID=America/Chicago:20240225T180000
DTSTAMP:20260424T025233
CREATED:20240222T063710Z
LAST-MODIFIED:20240222T063710Z
UID:10429-1708866000-1708884000@centexboardgameminiatures.org
SUMMARY:Dune Imperium Uprising
DESCRIPTION:
URL:https://centexboardgameminiatures.org/event/dune-imperium-uprising-4/
LOCATION:Gaming Carriage House\, Woodway\, TX
CATEGORIES:Game Day
END:VEVENT
BEGIN:VEVENT
DTSTART;TZID=America/Chicago:20240220T130000
DTEND;TZID=America/Chicago:20240220T180000
DTSTAMP:20260424T025233
CREATED:20240222T063601Z
LAST-MODIFIED:20240222T063601Z
UID:10427-1708434000-1708452000@centexboardgameminiatures.org
SUMMARY:Dune Imperium Uprising
DESCRIPTION:
URL:https://centexboardgameminiatures.org/event/dune-imperium-uprising-3/
LOCATION:Gaming Carriage House\, Woodway\, TX
CATEGORIES:Game Day
END:VEVENT
BEGIN:VEVENT
DTSTART;TZID=America/Chicago:20240218T130000
DTEND;TZID=America/Chicago:20240218T170000
DTSTAMP:20260424T025233
CREATED:20240218T012854Z
LAST-MODIFIED:20240218T013055Z
UID:10417-1708261200-1708275600@centexboardgameminiatures.org
SUMMARY:Dune Imperium Uprising
DESCRIPTION:In Dune: Imperium Uprising\, you want to continue to balance military might with political intrigue\, wielding new tools in pursuit of victory. Spies will shore up your plans\, vital contracts will expand your resources\, or you can learn the ways of the Fremen and ride mighty sandworms into battle! \nArrakis. Dune. Desert Planet. Home to the most precious resource in the universe—the spice melange. After betraying and destroying House Atreides\, the Emperor Shaddam Corrino IV has given House Harkonnen control over the planet Arrakis once more. \nBut a mysterious warrior named Muad’Dib has risen to power among the Fremen\, threatening the schemes of the Emperor and his allies. Other factions have taken notice\, as the conflict on Arrakis has reached a breaking point. What was once a blood feud between rival Great Houses has become something greater. From lowly smugglers to Bene Gesserit sisters to the Emperor himself\, many have critical roles to play in determining the future of the Imperium. As always\, one thing remains true:\nWhoever controls the spice controls the universe… \nThe choices are yours. The Imperium awaits!
URL:https://centexboardgameminiatures.org/event/dune-imperium-uprising-2/
LOCATION:Gaming Carriage House\, Woodway\, TX
CATEGORIES:Game Day
END:VEVENT
BEGIN:VEVENT
DTSTART;TZID=America/Chicago:20240213T130000
DTEND;TZID=America/Chicago:20240213T170000
DTSTAMP:20260424T025233
CREATED:20240213T120315Z
LAST-MODIFIED:20240213T064045Z
UID:10397-1707829200-1707843600@centexboardgameminiatures.org
SUMMARY:Dune Imperium Uprising
DESCRIPTION:In Dune: Imperium Uprising\, you want to continue to balance military might with political intrigue\, wielding new tools in pursuit of victory. Spies will shore up your plans\, vital contracts will expand your resources\, or you can learn the ways of the Fremen and ride mighty sandworms into battle! \nArrakis. Dune. Desert Planet. Home to the most precious resource in the universe—the spice melange. After betraying and destroying House Atreides\, the Emperor Shaddam Corrino IV has given House Harkonnen control over the planet Arrakis once more. \nBut a mysterious warrior named Muad’Dib has risen to power among the Fremen\, threatening the schemes of the Emperor and his allies. Other factions have taken notice\, as the conflict on Arrakis has reached a breaking point. What was once a blood feud between rival Great Houses has become something greater. From lowly smugglers to Bene Gesserit sisters to the Emperor himself\, many have critical roles to play in determining the future of the Imperium. As always\, one thing remains true:\nWhoever controls the spice controls the universe… \nThe choices are yours. The Imperium awaits!
URL:https://centexboardgameminiatures.org/event/dune-imperium-uprising/
LOCATION:Gaming Carriage House\, Woodway\, TX
CATEGORIES:Game Day
END:VEVENT
BEGIN:VEVENT
DTSTART;TZID=America/Chicago:20240206T070000
DTEND;TZID=America/Chicago:20240206T120000
DTSTAMP:20260424T025233
CREATED:20240206T095956Z
LAST-MODIFIED:20240206T095956Z
UID:10377-1707202800-1707220800@centexboardgameminiatures.org
SUMMARY:Destinies
DESCRIPTION:
URL:https://centexboardgameminiatures.org/event/destinies-2/
LOCATION:Gaming Carriage House\, Woodway\, TX
CATEGORIES:Game Day
END:VEVENT
BEGIN:VEVENT
DTSTART;TZID=America/Chicago:20240204T070000
DTEND;TZID=America/Chicago:20240204T120000
DTSTAMP:20260424T025233
CREATED:20240202T081831Z
LAST-MODIFIED:20240202T081831Z
UID:10274-1707030000-1707048000@centexboardgameminiatures.org
SUMMARY:Destinies
DESCRIPTION:
URL:https://centexboardgameminiatures.org/event/destinies/
LOCATION:Gaming Carriage House\, Woodway\, TX
CATEGORIES:Game Day
END:VEVENT
BEGIN:VEVENT
DTSTART;TZID=America/Chicago:20240114T070000
DTEND;TZID=America/Chicago:20240114T120000
DTSTAMP:20260424T025233
CREATED:20240112T083240Z
LAST-MODIFIED:20240112T083525Z
UID:9928-1705215600-1705233600@centexboardgameminiatures.org
SUMMARY:Ankh: The Delta’s Bounty
DESCRIPTION:
URL:https://centexboardgameminiatures.org/event/ankh-the-deltas-bounty/
LOCATION:Gaming Carriage House\, Woodway\, TX
CATEGORIES:Game Day
END:VEVENT
BEGIN:VEVENT
DTSTART;TZID=America/Chicago:20240111T070000
DTEND;TZID=America/Chicago:20240111T120000
DTSTAMP:20260424T025233
CREATED:20240112T083032Z
LAST-MODIFIED:20240112T083602Z
UID:9926-1704956400-1704974400@centexboardgameminiatures.org
SUMMARY:Ankh: Two Capitals
DESCRIPTION:
URL:https://centexboardgameminiatures.org/event/ankh-two-capitals/
LOCATION:Gaming Carriage House\, Woodway\, TX
CATEGORIES:Game Day
END:VEVENT
BEGIN:VEVENT
DTSTART;TZID=America/Chicago:20240109T070000
DTEND;TZID=America/Chicago:20240109T120000
DTSTAMP:20260424T025233
CREATED:20240108T085505Z
LAST-MODIFIED:20240112T083657Z
UID:9900-1704783600-1704801600@centexboardgameminiatures.org
SUMMARY:Ankh - The Old Kingdom
DESCRIPTION:
URL:https://centexboardgameminiatures.org/event/ankh-scenario-2/
LOCATION:Gaming Carriage House\, Woodway\, TX
CATEGORIES:Game Day
END:VEVENT
BEGIN:VEVENT
DTSTART;TZID=America/Chicago:20240107T070000
DTEND;TZID=America/Chicago:20240107T120000
DTSTAMP:20260424T025233
CREATED:20240105T063324Z
LAST-MODIFIED:20240112T083745Z
UID:9819-1704610800-1704628800@centexboardgameminiatures.org
SUMMARY:Ankh: The Middle Kingdom
DESCRIPTION:
URL:https://centexboardgameminiatures.org/event/ankh/
LOCATION:Gaming Carriage House\, Woodway\, TX
CATEGORIES:Game Day
END:VEVENT
BEGIN:VEVENT
DTSTART;TZID=America/Chicago:20240104T070000
DTEND;TZID=America/Chicago:20240104T120000
DTSTAMP:20260424T025233
CREATED:20240101T070350Z
LAST-MODIFIED:20240101T070350Z
UID:9785-1704351600-1704369600@centexboardgameminiatures.org
SUMMARY:Massive Darkness 2: Duke of Hell
DESCRIPTION:
URL:https://centexboardgameminiatures.org/event/massive-darkness-2-duke-of-hell/
LOCATION:Gaming Carriage House\, Woodway\, TX
CATEGORIES:Game Day
END:VEVENT
BEGIN:VEVENT
DTSTART;TZID=America/Chicago:20240102T070000
DTEND;TZID=America/Chicago:20240102T120000
DTSTAMP:20260424T025233
CREATED:20240101T070229Z
LAST-MODIFIED:20240101T070229Z
UID:9783-1704178800-1704196800@centexboardgameminiatures.org
SUMMARY:Massive Darkness 2: Stairway To Heaven
DESCRIPTION:
URL:https://centexboardgameminiatures.org/event/massive-darkness-2-stairway-to-heaven/
LOCATION:Gaming Carriage House\, Woodway\, TX
CATEGORIES:Game Day
END:VEVENT
BEGIN:VEVENT
DTSTART;TZID=America/Chicago:20231231T070000
DTEND;TZID=America/Chicago:20231231T120000
DTSTAMP:20260424T025233
CREATED:20231227T085419Z
LAST-MODIFIED:20231228T091107Z
UID:9743-1704006000-1704024000@centexboardgameminiatures.org
SUMMARY:Heaven’s Secret Door
DESCRIPTION:
URL:https://centexboardgameminiatures.org/event/heavens-secret-door/
LOCATION:Gaming Carriage House\, Woodway\, TX
CATEGORIES:Game Day
END:VEVENT
BEGIN:VEVENT
DTSTART;TZID=America/Chicago:20231226T070000
DTEND;TZID=America/Chicago:20231226T120000
DTSTAMP:20260424T025233
CREATED:20231222T121107Z
LAST-MODIFIED:20231227T085245Z
UID:9738-1703574000-1703592000@centexboardgameminiatures.org
SUMMARY:Massive Darkness 2: Releasing Michael
DESCRIPTION:
URL:https://centexboardgameminiatures.org/event/massive-darkness-2-releasing-michael/
LOCATION:Gaming Carriage House\, Woodway\, TX
CATEGORIES:Game Day
END:VEVENT
BEGIN:VEVENT
DTSTART;TZID=America/Chicago:20231221T070000
DTEND;TZID=America/Chicago:20231221T120000
DTSTAMP:20260424T025233
CREATED:20231221T020615Z
LAST-MODIFIED:20231221T020615Z
UID:9702-1703142000-1703160000@centexboardgameminiatures.org
SUMMARY:Massive Darkness 2: The Hellish Maze
DESCRIPTION:
URL:https://centexboardgameminiatures.org/event/massive-darkness-2-the-hellish-maze/
LOCATION:Gaming Carriage House\, Woodway\, TX
CATEGORIES:Game Day
END:VEVENT
BEGIN:VEVENT
DTSTART;TZID=America/Chicago:20231219T070000
DTEND;TZID=America/Chicago:20231219T120000
DTSTAMP:20260424T025233
CREATED:20231221T020511Z
LAST-MODIFIED:20231221T020511Z
UID:9700-1702969200-1702987200@centexboardgameminiatures.org
SUMMARY:Massive Darkness 2: The Passage
DESCRIPTION:
URL:https://centexboardgameminiatures.org/event/massive-darkness-2-the-passage/
LOCATION:Gaming Carriage House\, Woodway\, TX
CATEGORIES:Game Day
END:VEVENT
BEGIN:VEVENT
DTSTART;TZID=America/Chicago:20231217T070000
DTEND;TZID=America/Chicago:20231217T110000
DTSTAMP:20260424T025233
CREATED:20231213T100814Z
LAST-MODIFIED:20231213T100830Z
UID:9653-1702796400-1702810800@centexboardgameminiatures.org
SUMMARY:MD2 - Heavensfall
DESCRIPTION:
URL:https://centexboardgameminiatures.org/event/md2-heavensfall/
LOCATION:Gaming Carriage House\, Woodway\, TX
CATEGORIES:Game Day
END:VEVENT
BEGIN:VEVENT
DTSTART;TZID=America/Chicago:20231212T050000
DTEND;TZID=America/Chicago:20231212T110000
DTSTAMP:20260424T025233
CREATED:20231211T090206Z
LAST-MODIFIED:20231211T090206Z
UID:9651-1702357200-1702378800@centexboardgameminiatures.org
SUMMARY:Massive Darkness 2 - Highway to Hell
DESCRIPTION:
URL:https://centexboardgameminiatures.org/event/massive-darkness-2-highway-to-hell/
LOCATION:Gaming Carriage House\, Woodway\, TX
CATEGORIES:Game Day
END:VEVENT
BEGIN:VEVENT
DTSTART;TZID=America/Chicago:20231210T070000
DTEND;TZID=America/Chicago:20231210T120000
DTSTAMP:20260424T025233
CREATED:20231204T070758Z
LAST-MODIFIED:20231207T113110Z
UID:9624-1702191600-1702209600@centexboardgameminiatures.org
SUMMARY:Massive Darkness 2 - Heavens Fall Campaign
DESCRIPTION:
URL:https://centexboardgameminiatures.org/event/massive-darkness-2-heavens-fall-campaign/
LOCATION:Gaming Carriage House\, Woodway\, TX
CATEGORIES:Game Day
END:VEVENT
END:VCALENDAR